BEGIN:VCALENDAR
VERSION:2.0
PRODID:-//PDX Parent - ECPv6.15.17//NONSGML v1.0//EN
CALSCALE:GREGORIAN
METHOD:PUBLISH
X-WR-CALNAME:PDX Parent
X-ORIGINAL-URL:https://pdxparent.com
X-WR-CALDESC:Events for PDX Parent
REFRESH-INTERVAL;VALUE=DURATION:PT1H
X-Robots-Tag:noindex
X-PUBLISHED-TTL:PT1H
BEGIN:VTIMEZONE
TZID:America/Los_Angeles
BEGIN:DAYLIGHT
TZOFFSETFROM:-0800
TZOFFSETTO:-0700
TZNAME:PDT
DTSTART:20250309T100000
END:DAYLIGHT
BEGIN:STANDARD
TZOFFSETFROM:-0700
TZOFFSETTO:-0800
TZNAME:PST
DTSTART:20251102T090000
END:STANDARD
BEGIN:DAYLIGHT
TZOFFSETFROM:-0800
TZOFFSETTO:-0700
TZNAME:PDT
DTSTART:20260308T100000
END:DAYLIGHT
BEGIN:STANDARD
TZOFFSETFROM:-0700
TZOFFSETTO:-0800
TZNAME:PST
DTSTART:20261101T090000
END:STANDARD
BEGIN:DAYLIGHT
TZOFFSETFROM:-0800
TZOFFSETTO:-0700
TZNAME:PDT
DTSTART:20270314T100000
END:DAYLIGHT
BEGIN:STANDARD
TZOFFSETFROM:-0700
TZOFFSETTO:-0800
TZNAME:PST
DTSTART:20271107T090000
END:STANDARD
END:VTIMEZONE
BEGIN:VEVENT
DTSTART;TZID=America/Los_Angeles:20260118T080000
DTEND;TZID=America/Los_Angeles:20260118T180000
DTSTAMP:20260423T085102
CREATED:20251212T220406Z
LAST-MODIFIED:20251212T220447Z
UID:10049106-1768723200-1768759200@pdxparent.com
SUMMARY:2026 Rose City Dog Show
DESCRIPTION:Considered by many the pinnacle of canine excellence\, the Rose City Classic Dog Show is a family friendly premier event drawing top dogs from across the US to compete in the heart of Portland\, Oregon every January. From breed specialties to thrilling all-breed shows\, join us to celebrate the extraordinary bond between humans and their four-legged champions!\n\n\nThursday\, January 15\, 2026 is nonticketed (FREE)\nTickets needed: Friday January 16 – January 18\, 2026\nHours: 8:00am – 6:00pm\nJudging begins @ 8:00am daily (end times vary daily)\nAge Limitations: All Ages\, children under 16 must be accompanied by an adult\n\n\nSeniors 62 and up free on Friday ONLY\nNO PUBLIC DOGS. All dogs must be registered in the show to enter the facility.
URL:https://pdxparent.com/event-single/2026-rose-city-dog-show/2026-01-18/
LOCATION:Portland Expo Center\, 2060 N. Marine Dr.\, Portland\, OR\, 97217\, United States
CATEGORIES:Family Fun,Indoor,Kids Calendar
ATTACH;FMTTYPE=image/png:https://pdxparent.com/wp-content/uploads/rose-city-classic-dog-show.png
GEO:45.6069802;-122.6896786
X-APPLE-STRUCTURED-LOCATION;VALUE=URI;X-ADDRESS=Portland Expo Center 2060 N. Marine Dr. Portland OR 97217 United States;X-APPLE-RADIUS=500;X-TITLE=2060 N. Marine Dr.:geo:-122.6896786,45.6069802
END:VEVENT
END:VCALENDAR