BEGIN:VCALENDAR
VERSION:2.0
PRODID:-//PDX Parent - ECPv6.15.17//NONSGML v1.0//EN
CALSCALE:GREGORIAN
METHOD:PUBLISH
X-WR-CALNAME:PDX Parent
X-ORIGINAL-URL:https://pdxparent.com
X-WR-CALDESC:Events for PDX Parent
REFRESH-INTERVAL;VALUE=DURATION:PT1H
X-Robots-Tag:noindex
X-PUBLISHED-TTL:PT1H
BEGIN:VTIMEZONE
TZID:America/Los_Angeles
BEGIN:DAYLIGHT
TZOFFSETFROM:-0800
TZOFFSETTO:-0700
TZNAME:PDT
DTSTART:20250309T100000
END:DAYLIGHT
BEGIN:STANDARD
TZOFFSETFROM:-0700
TZOFFSETTO:-0800
TZNAME:PST
DTSTART:20251102T090000
END:STANDARD
BEGIN:DAYLIGHT
TZOFFSETFROM:-0800
TZOFFSETTO:-0700
TZNAME:PDT
DTSTART:20260308T100000
END:DAYLIGHT
BEGIN:STANDARD
TZOFFSETFROM:-0700
TZOFFSETTO:-0800
TZNAME:PST
DTSTART:20261101T090000
END:STANDARD
BEGIN:DAYLIGHT
TZOFFSETFROM:-0800
TZOFFSETTO:-0700
TZNAME:PDT
DTSTART:20270314T100000
END:DAYLIGHT
BEGIN:STANDARD
TZOFFSETFROM:-0700
TZOFFSETTO:-0800
TZNAME:PST
DTSTART:20271107T090000
END:STANDARD
END:VTIMEZONE
BEGIN:VEVENT
DTSTART;TZID=America/Los_Angeles:20260425T093000
DTEND;TZID=America/Los_Angeles:20260425T133000
DTSTAMP:20260423T202510
CREATED:20260423T175640Z
LAST-MODIFIED:20260423T175640Z
UID:10059612-1777109400-1777123800@pdxparent.com
SUMMARY:Arab Heritage Month Crafts at FLIP
DESCRIPTION:FLIP has a variety of crafts for different age levels this month to honor Arab Heritage Month.\n\n\n\nKhanda Mosaics: Use coloring pages\, glue\, and tissue paper to create beautiful\, traditional designs.\nMala Bracelets: Make your own bracelets with beads\, which may require adult help to finish\nArabic Alphabet Caligraphy: Use a traditional brush and ink to learn how to write and read Arabic letters – from right to left\, of course\nBedouin Weave Craft: Cut and paste colorful paper to mirror the kinds of patterns used in traditional weaving.\n\nOf course\, all our normal exhibits are available as well\, like our green screen stage\, cartoon-making room\, and fort making area.\n\n\n$10/Person\, Under Age 2 is Free\n\n \n\n\nEditor’s note: This event is a community submission.
URL:https://pdxparent.com/event-single/arab-heritage-month-crafts-at-flip/2026-04-25/
LOCATION:The FLIP Children’s Museum of Hillsboro\, 136 SE 3rd Ave Ste 200\, Hillsboro\, OR\, 97123\, United States
CATEGORIES:Arts/Crafts,Educational,Family Fun,Indoor Play Park,Kids Calendar
ATTACH;FMTTYPE=image/png:https://pdxparent.com/wp-content/uploads/ARAB-HERITAGE-MONTH.png
END:VEVENT
END:VCALENDAR