BEGIN:VCALENDAR
VERSION:2.0
PRODID:-//PDX Parent - ECPv6.15.17//NONSGML v1.0//EN
CALSCALE:GREGORIAN
METHOD:PUBLISH
X-WR-CALNAME:PDX Parent
X-ORIGINAL-URL:https://pdxparent.com
X-WR-CALDESC:Events for PDX Parent
REFRESH-INTERVAL;VALUE=DURATION:PT1H
X-Robots-Tag:noindex
X-PUBLISHED-TTL:PT1H
BEGIN:VTIMEZONE
TZID:America/Los_Angeles
BEGIN:DAYLIGHT
TZOFFSETFROM:-0800
TZOFFSETTO:-0700
TZNAME:PDT
DTSTART:20250309T100000
END:DAYLIGHT
BEGIN:STANDARD
TZOFFSETFROM:-0700
TZOFFSETTO:-0800
TZNAME:PST
DTSTART:20251102T090000
END:STANDARD
BEGIN:DAYLIGHT
TZOFFSETFROM:-0800
TZOFFSETTO:-0700
TZNAME:PDT
DTSTART:20260308T100000
END:DAYLIGHT
BEGIN:STANDARD
TZOFFSETFROM:-0700
TZOFFSETTO:-0800
TZNAME:PST
DTSTART:20261101T090000
END:STANDARD
BEGIN:DAYLIGHT
TZOFFSETFROM:-0800
TZOFFSETTO:-0700
TZNAME:PDT
DTSTART:20270314T100000
END:DAYLIGHT
BEGIN:STANDARD
TZOFFSETFROM:-0700
TZOFFSETTO:-0800
TZNAME:PST
DTSTART:20271107T090000
END:STANDARD
END:VTIMEZONE
BEGIN:VEVENT
DTSTART;TZID=America/Los_Angeles:20260516T090000
DTEND;TZID=America/Los_Angeles:20260516T110000
DTSTAMP:20260419T072920
CREATED:20260413T203928Z
LAST-MODIFIED:20260413T203928Z
UID:284552-1778922000-1778929200@pdxparent.com
SUMMARY:Baby Bonanza with Pediatric Associates of the Northwest
DESCRIPTION:Welcoming a new baby can be an exciting and stressful time. Pediatric Associates of the Northwest recognizes the mix of emotions involved with becoming a parent. That’s why we’re thrilled to invite you to our upcoming Baby Bonanza to learn the essential skills to navigate life with your newborn.\n\n\nRegister now for this unique opportunity for new and expectant parents to gather knowledge\, gain insights\, and connect with expert pediatricians\, nurse practitioners\, pediatric psychologists\, and a lactation consultant\, all in a fun and informal community setting.\n\n\nBaby Bonanza is FREE\, open to the community\, everyone is invited\, and we are stroller-friendly!\n\n \n\n\nEditor’s note: This event is a community submission.
URL:https://pdxparent.com/event-single/baby-bonanza-with-pediatric-associates-of-the-northwest/
LOCATION:Pediatric Associates of the Northwest (Portland)\, 2701 NW Vaughn St\, 2nd FLR Atrium\, Portland\, O\, 97210\, United States
CATEGORIES:Educational,Kids Calendar
ATTACH;FMTTYPE=image/png:https://pdxparent.com/wp-content/uploads/PANW-BB-Square.png
ORGANIZER;CN="Pediatric Associates of the Northwest":MAILTO:jane@kauferdmc.com
END:VEVENT
END:VCALENDAR