BEGIN:VCALENDAR
VERSION:2.0
PRODID:-//PDX Parent - ECPv6.15.17//NONSGML v1.0//EN
CALSCALE:GREGORIAN
METHOD:PUBLISH
X-WR-CALNAME:PDX Parent
X-ORIGINAL-URL:https://pdxparent.com
X-WR-CALDESC:Events for PDX Parent
REFRESH-INTERVAL;VALUE=DURATION:PT1H
X-Robots-Tag:noindex
X-PUBLISHED-TTL:PT1H
BEGIN:VTIMEZONE
TZID:America/Los_Angeles
BEGIN:DAYLIGHT
TZOFFSETFROM:-0800
TZOFFSETTO:-0700
TZNAME:PDT
DTSTART:20240310T100000
END:DAYLIGHT
BEGIN:STANDARD
TZOFFSETFROM:-0700
TZOFFSETTO:-0800
TZNAME:PST
DTSTART:20241103T090000
END:STANDARD
BEGIN:DAYLIGHT
TZOFFSETFROM:-0800
TZOFFSETTO:-0700
TZNAME:PDT
DTSTART:20250309T100000
END:DAYLIGHT
BEGIN:STANDARD
TZOFFSETFROM:-0700
TZOFFSETTO:-0800
TZNAME:PST
DTSTART:20251102T090000
END:STANDARD
BEGIN:DAYLIGHT
TZOFFSETFROM:-0800
TZOFFSETTO:-0700
TZNAME:PDT
DTSTART:20260308T100000
END:DAYLIGHT
BEGIN:STANDARD
TZOFFSETFROM:-0700
TZOFFSETTO:-0800
TZNAME:PST
DTSTART:20261101T090000
END:STANDARD
END:VTIMEZONE
BEGIN:VEVENT
DTSTART;TZID=America/Los_Angeles:20250724T100000
DTEND;TZID=America/Los_Angeles:20250724T110000
DTSTAMP:20260420T073235
CREATED:20250602T202555Z
LAST-MODIFIED:20250710T204004Z
UID:10009217-1753351200-1753354800@pdxparent.com
SUMMARY:Bridgeport Village Playdates
DESCRIPTION:Meet on the Village Green for weekly playdates created for little ones – and the grownups who care for them.\nPLAYDATES ON THE VILLAGE GREEN\nThursdays | June 5 – August 28*\n10am to 11am\n\n\nEvery Thursday morning\, toddlers ages 1–3 can explore\, play\, and make new friends while caregivers connect and unwind in a relaxed\, welcoming setting.\n\n\nWhat To Expect\n\n \n\n\n\nNature-inspired play area perfect for curious little movers\nWeekly themed activities think bubbles\, forts\, crafts\, and more\nFree balloons and duckies for added fun\nFriendly Host to welcome you\, spark conversation\, and occasionally lead a dance party!\n\nNo RSVP needed. Come as you are. Stay as long as you’d like. Let’s connect\, play\, and build community – one Thursday at a time.\n\n\n*Events are free to attend. No playdate is scheduled on July 3. Activities are subject to change. 
URL:https://pdxparent.com/event-single/bridgeport-village-playdates/2025-07-24/
LOCATION:Bridgeport Village
CATEGORIES:Active,Dance,Family Fun,Kids Calendar,Outdoor,Playgroup
ATTACH;FMTTYPE=image/jpeg:https://pdxparent.com/wp-content/uploads/BPV_Village_Green_Playdate.jpg
END:VEVENT
END:VCALENDAR