BEGIN:VCALENDAR
VERSION:2.0
PRODID:-//PDX Parent - ECPv6.15.17//NONSGML v1.0//EN
CALSCALE:GREGORIAN
METHOD:PUBLISH
X-WR-CALNAME:PDX Parent
X-ORIGINAL-URL:https://pdxparent.com
X-WR-CALDESC:Events for PDX Parent
REFRESH-INTERVAL;VALUE=DURATION:PT1H
X-Robots-Tag:noindex
X-PUBLISHED-TTL:PT1H
BEGIN:VTIMEZONE
TZID:America/Los_Angeles
BEGIN:DAYLIGHT
TZOFFSETFROM:-0800
TZOFFSETTO:-0700
TZNAME:PDT
DTSTART:20250309T100000
END:DAYLIGHT
BEGIN:STANDARD
TZOFFSETFROM:-0700
TZOFFSETTO:-0800
TZNAME:PST
DTSTART:20251102T090000
END:STANDARD
BEGIN:DAYLIGHT
TZOFFSETFROM:-0800
TZOFFSETTO:-0700
TZNAME:PDT
DTSTART:20260308T100000
END:DAYLIGHT
BEGIN:STANDARD
TZOFFSETFROM:-0700
TZOFFSETTO:-0800
TZNAME:PST
DTSTART:20261101T090000
END:STANDARD
BEGIN:DAYLIGHT
TZOFFSETFROM:-0800
TZOFFSETTO:-0700
TZNAME:PDT
DTSTART:20270314T100000
END:DAYLIGHT
BEGIN:STANDARD
TZOFFSETFROM:-0700
TZOFFSETTO:-0800
TZNAME:PST
DTSTART:20271107T090000
END:STANDARD
END:VTIMEZONE
BEGIN:VEVENT
DTSTART;TZID=America/Los_Angeles:20260426T120000
DTEND;TZID=America/Los_Angeles:20260426T160000
DTSTAMP:20260423T132204
CREATED:20260416T225516Z
LAST-MODIFIED:20260416T225516Z
UID:285343-1777204800-1777219200@pdxparent.com
SUMMARY:Celebrate Día de los niños (Children’s Day) with Hillsboro Public Library
DESCRIPTION:Hillsboro Public Library staff are excited to host a vibrant and culturally rich celebration of Día de los niños (Children’s Day) on Saturday\, April 26\, from 12 to 4 pm.\n\n\nThe afternoon of family-friendly activities\, entertainment\, and learning opportunities will take place at both the Shute Park Library and the Hillsboro Community Senior Center.\n\n\nDía de los niños (Children’s Day) Celebration\nSaturday\, April 26\n12 – 4 pm\nShute Park Library & Hillsboro Community Senior Center\n\n \n\n\nThe celebration is free and open to all community members.\n\n\nTradition Continues\nDía de los niños is a traditional Mexican holiday that celebrates children and their importance in communities. It emphasizes the importance of literacy for children of all linguistic and cultural backgrounds.\n\n\nHillsboro Public Library’s event will honor this tradition by offering a variety of activities for children that highlight the richness of our community.\n\n\nFamily Activities\nFamilies are encouraged to come and join in the festivities\, celebrate the diversity of our community\, and support the importance of literacy and cultural understanding for all children.\nActivities will include:\n\n\n\nstorytelling sessions: featuring bilingual stories\npuppet shows\ninteractive activities\ncrafts\ngames\nmusic\n\nIn addition\, Hillsboro Parks & Recreation will be there with a fun Arbor Day activity.\n\n\nThe celebration will also expand into the Hillsboro Community Senior Center with special performances.\n\n\nPerformance Schedule\n12:30 – 1:15 pm     Pegasus Puppet Theatre – La Ratoncita Presumida/The Vain Little Mouse\n1:30 – 2:15 pm       Balloon Artist\n2:45 – 3:45 pm       Heather Pearl Clown Show
URL:https://pdxparent.com/event-single/celebrate-dia-de-los-ninos-childrens-day-with-hillsboro-public-library/
LOCATION:Hillsboro Public Library\, Shute Park\, 775 SE 10th Ave\, Hillsboro\, Oregon\, 97123
CATEGORIES:Active,Arts/Crafts,Books/Library,Educational,Family Fun,Kids Calendar,Magic/Puppets,Music
ATTACH;FMTTYPE=image/jpeg:https://pdxparent.com/wp-content/uploads/Dia-de-los-ninos-Childrens-Day-with-Hillsboro-Public-Library.jpg
END:VEVENT
END:VCALENDAR