BEGIN:VCALENDAR
VERSION:2.0
PRODID:-//PDX Parent - ECPv6.15.17//NONSGML v1.0//EN
CALSCALE:GREGORIAN
METHOD:PUBLISH
X-WR-CALNAME:PDX Parent
X-ORIGINAL-URL:https://pdxparent.com
X-WR-CALDESC:Events for PDX Parent
REFRESH-INTERVAL;VALUE=DURATION:PT1H
X-Robots-Tag:noindex
X-PUBLISHED-TTL:PT1H
BEGIN:VTIMEZONE
TZID:America/Los_Angeles
BEGIN:DAYLIGHT
TZOFFSETFROM:-0800
TZOFFSETTO:-0700
TZNAME:PDT
DTSTART:20250309T100000
END:DAYLIGHT
BEGIN:STANDARD
TZOFFSETFROM:-0700
TZOFFSETTO:-0800
TZNAME:PST
DTSTART:20251102T090000
END:STANDARD
BEGIN:DAYLIGHT
TZOFFSETFROM:-0800
TZOFFSETTO:-0700
TZNAME:PDT
DTSTART:20260308T100000
END:DAYLIGHT
BEGIN:STANDARD
TZOFFSETFROM:-0700
TZOFFSETTO:-0800
TZNAME:PST
DTSTART:20261101T090000
END:STANDARD
BEGIN:DAYLIGHT
TZOFFSETFROM:-0800
TZOFFSETTO:-0700
TZNAME:PDT
DTSTART:20270314T100000
END:DAYLIGHT
BEGIN:STANDARD
TZOFFSETFROM:-0700
TZOFFSETTO:-0800
TZNAME:PST
DTSTART:20271107T090000
END:STANDARD
END:VTIMEZONE
BEGIN:VEVENT
DTSTART;TZID=America/Los_Angeles:20260502T180000
DTEND;TZID=America/Los_Angeles:20260502T193000
DTSTAMP:20260423T122951
CREATED:20260420T205128Z
LAST-MODIFIED:20260420T205128Z
UID:285528-1777744800-1777750200@pdxparent.com
SUMMARY:Choose-Your-Adventure: The Time Heists!
DESCRIPTION:A Choose-Your-Own-Adventure musical tale!\nBlueprint brings a unique concept within the choral and theatrical arena:\nletting the audience choose what comes next!\n\n\nWith provided handheld digital devices\, the audience will get opportunities to select/vote\n— at numerous junctures in this original spy thriller —\nwhich path the main characters will take next!\n\n\nBacked by a digital fast-paced plot\, audio and visual enhancements\,\nand (of course) an amazing soundtrack\,\nthe jukebox-musical-style Choose-Your-Adventure-Now show\npacks fun and quirky elements together with a fully choreographed show\,\nand of course the choral harmonies that the organization highlights at every show!\n\n \n\n\nTHE STORY (in a sentence or two):\nA roque time traveler is stealing historical treasures\,\nand also eliminating historical figures\,\ncausing massive chaos in the timestream!\nIf not countered quickly\, it could irrevocably alter the timeline!\n\n\nCome be part of our team of agents helping figure out this mystery\, and decide what our agents do next\, with a slammin’ pursuit soundtrack\, which could include (depending on the path chosen)…\n\n\n• Burn from Hamilton\n• Sia’s Elastic Heart\n• Stroope’s Lamentations\n• the jazz standard Birdland\n• Styx’s Renegade\n• Seize the Day from Newsies\n• In Every Age from Titanic\n\n\n\nOh\, and much\, much more!\n\n\nGrab your chronogoggles and your timepiece and join us on a musical journey of mystery and intrigue!\n\n\nSo come and be a part of the show\, and a part of the story!\n\n\nEditor’s note: This event is a community submission.
URL:https://pdxparent.com/event-single/choose-your-adventure-the-time-heists/
LOCATION:Rose City Park UMC\, 5830 NE Alameda St\, Portland\, O\, 97213\, United States
CATEGORIES:Kids Calendar,Theater
ATTACH;FMTTYPE=image/jpeg:https://pdxparent.com/wp-content/uploads/time.jpg
ORGANIZER;CN="Blueprint":MAILTO:info@BlueprintArts.org
END:VEVENT
END:VCALENDAR