BEGIN:VCALENDAR
VERSION:2.0
PRODID:-//PDX Parent - ECPv6.15.17//NONSGML v1.0//EN
CALSCALE:GREGORIAN
METHOD:PUBLISH
X-WR-CALNAME:PDX Parent
X-ORIGINAL-URL:https://pdxparent.com
X-WR-CALDESC:Events for PDX Parent
REFRESH-INTERVAL;VALUE=DURATION:PT1H
X-Robots-Tag:noindex
X-PUBLISHED-TTL:PT1H
BEGIN:VTIMEZONE
TZID:America/Los_Angeles
BEGIN:DAYLIGHT
TZOFFSETFROM:-0800
TZOFFSETTO:-0700
TZNAME:PDT
DTSTART:20240310T100000
END:DAYLIGHT
BEGIN:STANDARD
TZOFFSETFROM:-0700
TZOFFSETTO:-0800
TZNAME:PST
DTSTART:20241103T090000
END:STANDARD
BEGIN:DAYLIGHT
TZOFFSETFROM:-0800
TZOFFSETTO:-0700
TZNAME:PDT
DTSTART:20250309T100000
END:DAYLIGHT
BEGIN:STANDARD
TZOFFSETFROM:-0700
TZOFFSETTO:-0800
TZNAME:PST
DTSTART:20251102T090000
END:STANDARD
BEGIN:DAYLIGHT
TZOFFSETFROM:-0800
TZOFFSETTO:-0700
TZNAME:PDT
DTSTART:20260308T100000
END:DAYLIGHT
BEGIN:STANDARD
TZOFFSETFROM:-0700
TZOFFSETTO:-0800
TZNAME:PST
DTSTART:20261101T090000
END:STANDARD
END:VTIMEZONE
BEGIN:VEVENT
DTSTART;TZID=America/Los_Angeles:20251211T101500
DTEND;TZID=America/Los_Angeles:20251211T114500
DTSTAMP:20260425T065655
CREATED:20250912T203913Z
LAST-MODIFIED:20251120T223558Z
UID:10036822-1765448100-1765453500@pdxparent.com
SUMMARY:Community House Open Gym
DESCRIPTION:Let the littles run\, roll\, and explore in our old-school basketball gym! We transform the space with ride-on toys\, balls\, and toddler-friendly equipment for open-ended play. Perfect for burning energy rain or shine.\n\n\nChildren must be accompanied by an adult. Best suited to 12months-5 years.\n\n\nCost: $8\, $6 for siblings
URL:https://pdxparent.com/event-single/community-house-open-gym/2025-12-11/
LOCATION:Sellwood Community House\, 1436 SE Spokane St\, Portland\, Oregon\, 97202
CATEGORIES:Active,Family Fun,Indoor,Indoor Play Park,Kids Calendar
ATTACH;FMTTYPE=image/png:https://pdxparent.com/wp-content/uploads/PDX-Parent-Cal-12.png
ORGANIZER;CN="Sellwood Community House":MAILTO:erin@sellwoodcommunityhouse.org
GEO:45.4647759;-122.6512239
X-APPLE-STRUCTURED-LOCATION;VALUE=URI;X-ADDRESS=Sellwood Community House 1436 SE Spokane St Portland Oregon 97202;X-APPLE-RADIUS=500;X-TITLE=1436 SE Spokane St:geo:-122.6512239,45.4647759
END:VEVENT
END:VCALENDAR