BEGIN:VCALENDAR
VERSION:2.0
PRODID:-//PDX Parent - ECPv6.15.17//NONSGML v1.0//EN
CALSCALE:GREGORIAN
METHOD:PUBLISH
X-WR-CALNAME:PDX Parent
X-ORIGINAL-URL:https://pdxparent.com
X-WR-CALDESC:Events for PDX Parent
REFRESH-INTERVAL;VALUE=DURATION:PT1H
X-Robots-Tag:noindex
X-PUBLISHED-TTL:PT1H
BEGIN:VTIMEZONE
TZID:America/Los_Angeles
BEGIN:DAYLIGHT
TZOFFSETFROM:-0800
TZOFFSETTO:-0700
TZNAME:PDT
DTSTART:20250309T100000
END:DAYLIGHT
BEGIN:STANDARD
TZOFFSETFROM:-0700
TZOFFSETTO:-0800
TZNAME:PST
DTSTART:20251102T090000
END:STANDARD
BEGIN:DAYLIGHT
TZOFFSETFROM:-0800
TZOFFSETTO:-0700
TZNAME:PDT
DTSTART:20260308T100000
END:DAYLIGHT
BEGIN:STANDARD
TZOFFSETFROM:-0700
TZOFFSETTO:-0800
TZNAME:PST
DTSTART:20261101T090000
END:STANDARD
BEGIN:DAYLIGHT
TZOFFSETFROM:-0800
TZOFFSETTO:-0700
TZNAME:PDT
DTSTART:20270314T100000
END:DAYLIGHT
BEGIN:STANDARD
TZOFFSETFROM:-0700
TZOFFSETTO:-0800
TZNAME:PST
DTSTART:20271107T090000
END:STANDARD
END:VTIMEZONE
BEGIN:VEVENT
DTSTART;TZID=America/Los_Angeles:20260628T180000
DTEND;TZID=America/Los_Angeles:20260628T203000
DTSTAMP:20260422T082118
CREATED:20251104T182837Z
LAST-MODIFIED:20251104T182837Z
UID:10043403-1782669600-1782678600@pdxparent.com
SUMMARY:Community Theater Presents: “As you Like It”
DESCRIPTION:Opening weekend of our 8th annual summer Shakespeare touring show\, will be at our space. Opening day will have musical performances prior to the show.  Sunday’s performance will also be our 17th annual season announcement party.  These events are both free.  Come at 5pm to hear season 17 shows and to sign up for season 17 classes at a 3pm open house.  Stay for ‘As You Like It.’  Opening weekend is June 27th and 28th. We will also have performances on July 11th and 12th and July 18th\, 19th. All performances start at 6pm and are free.  They will be outside throughout the Southwest Washington area.  Please bring your blankets\, lawn chairs\, a picnic and sunscreen.
URL:https://pdxparent.com/event-single/community-theater-presents-as-you-like-it/2026-06-28/
LOCATION:Metropolitan Performing Arts
CATEGORIES:Kids Calendar,Theater
ATTACH;FMTTYPE=image/png:https://pdxparent.com/wp-content/uploads/As-You-Like-It2.png
GEO:45.627073;-122.605627
END:VEVENT
END:VCALENDAR