BEGIN:VCALENDAR
VERSION:2.0
PRODID:-//PDX Parent - ECPv6.15.17//NONSGML v1.0//EN
CALSCALE:GREGORIAN
METHOD:PUBLISH
X-WR-CALNAME:PDX Parent
X-ORIGINAL-URL:https://pdxparent.com
X-WR-CALDESC:Events for PDX Parent
REFRESH-INTERVAL;VALUE=DURATION:PT1H
X-Robots-Tag:noindex
X-PUBLISHED-TTL:PT1H
BEGIN:VTIMEZONE
TZID:America/Los_Angeles
BEGIN:DAYLIGHT
TZOFFSETFROM:-0800
TZOFFSETTO:-0700
TZNAME:PDT
DTSTART:20250309T100000
END:DAYLIGHT
BEGIN:STANDARD
TZOFFSETFROM:-0700
TZOFFSETTO:-0800
TZNAME:PST
DTSTART:20251102T090000
END:STANDARD
BEGIN:DAYLIGHT
TZOFFSETFROM:-0800
TZOFFSETTO:-0700
TZNAME:PDT
DTSTART:20260308T100000
END:DAYLIGHT
BEGIN:STANDARD
TZOFFSETFROM:-0700
TZOFFSETTO:-0800
TZNAME:PST
DTSTART:20261101T090000
END:STANDARD
BEGIN:DAYLIGHT
TZOFFSETFROM:-0800
TZOFFSETTO:-0700
TZNAME:PDT
DTSTART:20270314T100000
END:DAYLIGHT
BEGIN:STANDARD
TZOFFSETFROM:-0700
TZOFFSETTO:-0800
TZNAME:PST
DTSTART:20271107T090000
END:STANDARD
END:VTIMEZONE
BEGIN:VEVENT
DTSTART;TZID=America/Los_Angeles:20260430T122000
DTEND;TZID=America/Los_Angeles:20260430T130000
DTSTAMP:20260424T073523
CREATED:20260330T004325Z
LAST-MODIFIED:20260330T004325Z
UID:10057524-1777551600-1777554000@pdxparent.com
SUMMARY:Do Workshop (3-5 Months)   FREE
DESCRIPTION:In music\, “do” is foundational\, just like the first few months of life. Grow and bond with your infant as we explore the world around us through song\, movement\, and play. Grownups will be guided through activities that encourage age appropriate development while gaining support and friendship along the way.\n\n\nThis class is taught as a free bi-monthly workshop. Grownups will be allowed time and space to learn and connect with both other grownups and their infants. Because of this\, only grownups and the enrolled infant are permitted to attend. Space is limited and registration is required.\n\n\nEditor’s note: This event is a community submission.
URL:https://pdxparent.com/event-single/do-workshop-3-5-months-free/2026-04-30/
LOCATION:The Musikry\, 43 NW 3rd St\, Gresham\, OR\, 97030
CATEGORIES:Educational,Inclusive,Indoor,Kids Calendar,Music
ATTACH;FMTTYPE=image/png:https://pdxparent.com/wp-content/uploads/Do-Workshop-7.png
ORGANIZER;CN="The Musikry":MAILTO:hi@musikry.com
END:VEVENT
END:VCALENDAR