BEGIN:VCALENDAR
VERSION:2.0
PRODID:-//PDX Parent - ECPv6.15.17//NONSGML v1.0//EN
CALSCALE:GREGORIAN
METHOD:PUBLISH
X-WR-CALNAME:PDX Parent
X-ORIGINAL-URL:https://pdxparent.com
X-WR-CALDESC:Events for PDX Parent
REFRESH-INTERVAL;VALUE=DURATION:PT1H
X-Robots-Tag:noindex
X-PUBLISHED-TTL:PT1H
BEGIN:VTIMEZONE
TZID:America/Los_Angeles
BEGIN:DAYLIGHT
TZOFFSETFROM:-0800
TZOFFSETTO:-0700
TZNAME:PDT
DTSTART:20240310T100000
END:DAYLIGHT
BEGIN:STANDARD
TZOFFSETFROM:-0700
TZOFFSETTO:-0800
TZNAME:PST
DTSTART:20241103T090000
END:STANDARD
BEGIN:DAYLIGHT
TZOFFSETFROM:-0800
TZOFFSETTO:-0700
TZNAME:PDT
DTSTART:20250309T100000
END:DAYLIGHT
BEGIN:STANDARD
TZOFFSETFROM:-0700
TZOFFSETTO:-0800
TZNAME:PST
DTSTART:20251102T090000
END:STANDARD
BEGIN:DAYLIGHT
TZOFFSETFROM:-0800
TZOFFSETTO:-0700
TZNAME:PDT
DTSTART:20260308T100000
END:DAYLIGHT
BEGIN:STANDARD
TZOFFSETFROM:-0700
TZOFFSETTO:-0800
TZNAME:PST
DTSTART:20261101T090000
END:STANDARD
END:VTIMEZONE
BEGIN:VEVENT
DTSTART;TZID=America/Los_Angeles:20250825T103000
DTEND;TZID=America/Los_Angeles:20250825T110000
DTSTAMP:20260420T015811
CREATED:20250808T213527Z
LAST-MODIFIED:20250808T213711Z
UID:10012258-1756117800-1756119600@pdxparent.com
SUMMARY:Early Childhood Mandarin Music and Movement at Lake Oswego Library
DESCRIPTION:Join us for a thirty-minute program specially designed for young learners. We will sing\, move\, play instruments\, and tell stories. We welcome all levels of Mandarin fluency from absolute beginners to native Mandarin speakers. Recommended for children five and under accompanied by their caregivers. Space is limited and available on a first-come basis; no registration required.\n\n\nHEART STRINGS MANDARIN is an Early Childhood Mandarin Music and Movement Program for Children\, curated by a bilingual language and music educator\, with training in music therapy and qualifications as a mental health therapist.
URL:https://pdxparent.com/event-single/early-childhood-mandarin-music-and-movement-at-lake-oswego-library/2025-08-25/
LOCATION:Lake Oswego Library\, 706 4th St\, Lake Oswego\, OR\, 97034
CATEGORIES:Indoor,Kids Calendar,Music
ATTACH;FMTTYPE=image/jpeg:https://pdxparent.com/wp-content/uploads/IMG_0685.jpg
ORGANIZER;CN="Heart Strings Mandarin":MAILTO:heartstringsmandarin@gmail.com
END:VEVENT
END:VCALENDAR