BEGIN:VCALENDAR
VERSION:2.0
PRODID:-//PDX Parent - ECPv6.15.17//NONSGML v1.0//EN
CALSCALE:GREGORIAN
METHOD:PUBLISH
X-WR-CALNAME:PDX Parent
X-ORIGINAL-URL:https://pdxparent.com
X-WR-CALDESC:Events for PDX Parent
REFRESH-INTERVAL;VALUE=DURATION:PT1H
X-Robots-Tag:noindex
X-PUBLISHED-TTL:PT1H
BEGIN:VTIMEZONE
TZID:America/Los_Angeles
BEGIN:DAYLIGHT
TZOFFSETFROM:-0800
TZOFFSETTO:-0700
TZNAME:PDT
DTSTART:20240310T100000
END:DAYLIGHT
BEGIN:STANDARD
TZOFFSETFROM:-0700
TZOFFSETTO:-0800
TZNAME:PST
DTSTART:20241103T090000
END:STANDARD
BEGIN:DAYLIGHT
TZOFFSETFROM:-0800
TZOFFSETTO:-0700
TZNAME:PDT
DTSTART:20250309T100000
END:DAYLIGHT
BEGIN:STANDARD
TZOFFSETFROM:-0700
TZOFFSETTO:-0800
TZNAME:PST
DTSTART:20251102T090000
END:STANDARD
BEGIN:DAYLIGHT
TZOFFSETFROM:-0800
TZOFFSETTO:-0700
TZNAME:PDT
DTSTART:20260308T100000
END:DAYLIGHT
BEGIN:STANDARD
TZOFFSETFROM:-0700
TZOFFSETTO:-0800
TZNAME:PST
DTSTART:20261101T090000
END:STANDARD
END:VTIMEZONE
BEGIN:VEVENT
DTSTART;TZID=America/Los_Angeles:20250915T110000
DTEND;TZID=America/Los_Angeles:20250915T220000
DTSTAMP:20260424T154742
CREATED:20250829T040854Z
LAST-MODIFIED:20250908T195406Z
UID:10013156-1757934000-1757973600@pdxparent.com
SUMMARY:El Grito Portland
DESCRIPTION:Celebrate El Grito\, Mexican Independence Day\, this coming September 14 and 15 at the Moda Center!\n\n\nEl Grito Portland\, the largest free community event in the Pacific Northwest\, is a unique celebration that not only commemorates the Independence of Mexico and other Latin American countries but also marks the beginning of the National Hispanic Heritage Month.\n\n\nEach year\, thousands of families come together to celebrate the rich and diverse Latino/a/x/e culture\, honoring traditions\, our ancestors and indigenous heritage.\n\n \n\n\nThis free and vibrant celebration is a testament to the strength of our communities\, bringing us together through music\, food\, art\, cultural pride and community resources provided by participant organizations.
URL:https://pdxparent.com/event-single/el-grito-mexican-independence-day/2025-09-15/
LOCATION:Moda Center\, 1 N Center Ct. St.\, Portland\, OR\, 97227
CATEGORIES:Active,Dance,Family Fun,Holiday,Kids Calendar,Music
ATTACH;FMTTYPE=image/jpeg:https://pdxparent.com/wp-content/uploads/El-Grito-Portland-1.jpg
END:VEVENT
END:VCALENDAR