BEGIN:VCALENDAR
VERSION:2.0
PRODID:-//PDX Parent - ECPv6.15.17//NONSGML v1.0//EN
CALSCALE:GREGORIAN
METHOD:PUBLISH
X-WR-CALNAME:PDX Parent
X-ORIGINAL-URL:https://pdxparent.com
X-WR-CALDESC:Events for PDX Parent
REFRESH-INTERVAL;VALUE=DURATION:PT1H
X-Robots-Tag:noindex
X-PUBLISHED-TTL:PT1H
BEGIN:VTIMEZONE
TZID:America/Los_Angeles
BEGIN:DAYLIGHT
TZOFFSETFROM:-0800
TZOFFSETTO:-0700
TZNAME:PDT
DTSTART:20240310T100000
END:DAYLIGHT
BEGIN:STANDARD
TZOFFSETFROM:-0700
TZOFFSETTO:-0800
TZNAME:PST
DTSTART:20241103T090000
END:STANDARD
BEGIN:DAYLIGHT
TZOFFSETFROM:-0800
TZOFFSETTO:-0700
TZNAME:PDT
DTSTART:20250309T100000
END:DAYLIGHT
BEGIN:STANDARD
TZOFFSETFROM:-0700
TZOFFSETTO:-0800
TZNAME:PST
DTSTART:20251102T090000
END:STANDARD
BEGIN:DAYLIGHT
TZOFFSETFROM:-0800
TZOFFSETTO:-0700
TZNAME:PDT
DTSTART:20260308T100000
END:DAYLIGHT
BEGIN:STANDARD
TZOFFSETFROM:-0700
TZOFFSETTO:-0800
TZNAME:PST
DTSTART:20261101T090000
END:STANDARD
END:VTIMEZONE
BEGIN:VEVENT
DTSTART;TZID=America/Los_Angeles:20250916T100000
DTEND;TZID=America/Los_Angeles:20250916T110000
DTSTAMP:20260424T075617
CREATED:20250905T200704Z
LAST-MODIFIED:20250905T203538Z
UID:10034484-1758016800-1758020400@pdxparent.com
SUMMARY:Family Music & Puppetry with Red Yarn @ Taborspace
DESCRIPTION:Red Yarn is thrilled to return to the beautiful Taborspace Sanctuary on Tuesday mornings for a weekly music & puppet show. Families are invited to come sing\, dance\, and experience the joy of community with Red Yarn & his lovable critter puppets.\n\n\nRed Yarn performs from 10:00-10:45am on most Tuesday mornings of the school year starting on Sept. 2\, 2025. $10-20/family suggested sliding scale cover charge.\n\nRed Yarn (aka Andy Furgeson) is a Texas-born\, Oregon-based family performer who weaves music and puppetry into high-energy shows for all ages. With his engaging performances\, rowdy folk-rock recordings\, and playful music videos\, this red-bearded bard reinvigorates American roots music traditions for younger generations. Red Yarn is honored to have been voted Portland’s Best Kindie Performer in PDX Parent’s Reader Favorites Poll for eight years straight!
URL:https://pdxparent.com/event-single/family-music-puppetry-with-red-yarn-taborspace/2025-09-16/
LOCATION:taborspace\, 5441 SE Belmont St\, Portland\, OR\, 97215\, United States
CATEGORIES:Family Fun,Kids Calendar,Magic/Puppets,Music
ATTACH;FMTTYPE=image/jpeg:https://pdxparent.com/wp-content/uploads/Taborspace-Fall-2025.jpg
ORGANIZER;CN="Red Yarn Productions":MAILTO:redyarnproductions@gmail.com
END:VEVENT
END:VCALENDAR