BEGIN:VCALENDAR
VERSION:2.0
PRODID:-//PDX Parent - ECPv6.15.17//NONSGML v1.0//EN
CALSCALE:GREGORIAN
METHOD:PUBLISH
X-WR-CALNAME:PDX Parent
X-ORIGINAL-URL:https://pdxparent.com
X-WR-CALDESC:Events for PDX Parent
REFRESH-INTERVAL;VALUE=DURATION:PT1H
X-Robots-Tag:noindex
X-PUBLISHED-TTL:PT1H
BEGIN:VTIMEZONE
TZID:America/Los_Angeles
BEGIN:DAYLIGHT
TZOFFSETFROM:-0800
TZOFFSETTO:-0700
TZNAME:PDT
DTSTART:20250309T100000
END:DAYLIGHT
BEGIN:STANDARD
TZOFFSETFROM:-0700
TZOFFSETTO:-0800
TZNAME:PST
DTSTART:20251102T090000
END:STANDARD
BEGIN:DAYLIGHT
TZOFFSETFROM:-0800
TZOFFSETTO:-0700
TZNAME:PDT
DTSTART:20260308T100000
END:DAYLIGHT
BEGIN:STANDARD
TZOFFSETFROM:-0700
TZOFFSETTO:-0800
TZNAME:PST
DTSTART:20261101T090000
END:STANDARD
BEGIN:DAYLIGHT
TZOFFSETFROM:-0800
TZOFFSETTO:-0700
TZNAME:PDT
DTSTART:20270314T100000
END:DAYLIGHT
BEGIN:STANDARD
TZOFFSETFROM:-0700
TZOFFSETTO:-0800
TZNAME:PST
DTSTART:20271107T090000
END:STANDARD
END:VTIMEZONE
BEGIN:VEVENT
DTSTART;TZID=America/Los_Angeles:20260325T140000
DTEND;TZID=America/Los_Angeles:20260325T170000
DTSTAMP:20260423T090448
CREATED:20260305T221756Z
LAST-MODIFIED:20260305T221756Z
UID:278353-1774447200-1774458000@pdxparent.com
SUMMARY:FLIP Museum at Capitol Hill Library
DESCRIPTION:Come play at the mobile version of the FLIP Museum! Play is such an important of learning and growing. Kids from birth – 10 and their caregivers will enjoy hands on play and crafts. Fun\, Learning\, Inspiration\, and Play — FLIP!
URL:https://pdxparent.com/event-single/flip-museum-at-capitol-hill-library/
LOCATION:Capitol Hill Library
CATEGORIES:Active,Books/Library,Indoor,Kids Calendar
ATTACH;FMTTYPE=image/jpeg:https://pdxparent.com/wp-content/uploads/Kids-Activity.jpg
END:VEVENT
END:VCALENDAR