BEGIN:VCALENDAR
VERSION:2.0
PRODID:-//PDX Parent - ECPv6.15.17//NONSGML v1.0//EN
CALSCALE:GREGORIAN
METHOD:PUBLISH
X-WR-CALNAME:PDX Parent
X-ORIGINAL-URL:https://pdxparent.com
X-WR-CALDESC:Events for PDX Parent
REFRESH-INTERVAL;VALUE=DURATION:PT1H
X-Robots-Tag:noindex
X-PUBLISHED-TTL:PT1H
BEGIN:VTIMEZONE
TZID:America/Los_Angeles
BEGIN:DAYLIGHT
TZOFFSETFROM:-0800
TZOFFSETTO:-0700
TZNAME:PDT
DTSTART:20250309T100000
END:DAYLIGHT
BEGIN:STANDARD
TZOFFSETFROM:-0700
TZOFFSETTO:-0800
TZNAME:PST
DTSTART:20251102T090000
END:STANDARD
BEGIN:DAYLIGHT
TZOFFSETFROM:-0800
TZOFFSETTO:-0700
TZNAME:PDT
DTSTART:20260308T100000
END:DAYLIGHT
BEGIN:STANDARD
TZOFFSETFROM:-0700
TZOFFSETTO:-0800
TZNAME:PST
DTSTART:20261101T090000
END:STANDARD
BEGIN:DAYLIGHT
TZOFFSETFROM:-0800
TZOFFSETTO:-0700
TZNAME:PDT
DTSTART:20270314T100000
END:DAYLIGHT
BEGIN:STANDARD
TZOFFSETFROM:-0700
TZOFFSETTO:-0800
TZNAME:PST
DTSTART:20271107T090000
END:STANDARD
END:VTIMEZONE
BEGIN:VEVENT
DTSTART;TZID=America/Los_Angeles:20260330T170000
DTEND;TZID=America/Los_Angeles:20260330T200000
DTSTAMP:20260420T015628
CREATED:20260302T174248Z
LAST-MODIFIED:20260302T201343Z
UID:10055496-1774890000-1774900800@pdxparent.com
SUMMARY:Free Easter Bunny Photo at Bass Pro Shops
DESCRIPTION:Visit the Easter Bunny and get a free 4×6 photo at Bass Pro Shops! Reservations open March 14.\n\n\nMonday-Thursday\, March 30-April 2; 5pm-8pm\n\n\nSaturdays and Good Friday\, March 21\, 28 & April 3\, 4; 11am-6pm\n\n \n\n\nSundays\, March 22 & 29 11am-4pm\n\n\nEaster Sunday\, April 5 11am-3pm
URL:https://pdxparent.com/event-single/free-easter-bunny-photo-at-bass-pro-shops/2026-03-30/
LOCATION:Bass Pro Shop\, 7555 Southwest Nyberg Street\, Tualatin\, Oregon
CATEGORIES:Easter,Family Fun,Kids Calendar
ATTACH;FMTTYPE=image/jpeg:https://pdxparent.com/wp-content/uploads/Bass-Pro-Shops-Easter.jpg
END:VEVENT
END:VCALENDAR