BEGIN:VCALENDAR
VERSION:2.0
PRODID:-//PDX Parent - ECPv6.15.17//NONSGML v1.0//EN
CALSCALE:GREGORIAN
METHOD:PUBLISH
X-WR-CALNAME:PDX Parent
X-ORIGINAL-URL:https://pdxparent.com
X-WR-CALDESC:Events for PDX Parent
REFRESH-INTERVAL;VALUE=DURATION:PT1H
X-Robots-Tag:noindex
X-PUBLISHED-TTL:PT1H
BEGIN:VTIMEZONE
TZID:America/Los_Angeles
BEGIN:DAYLIGHT
TZOFFSETFROM:-0800
TZOFFSETTO:-0700
TZNAME:PDT
DTSTART:20250309T100000
END:DAYLIGHT
BEGIN:STANDARD
TZOFFSETFROM:-0700
TZOFFSETTO:-0800
TZNAME:PST
DTSTART:20251102T090000
END:STANDARD
BEGIN:DAYLIGHT
TZOFFSETFROM:-0800
TZOFFSETTO:-0700
TZNAME:PDT
DTSTART:20260308T100000
END:DAYLIGHT
BEGIN:STANDARD
TZOFFSETFROM:-0700
TZOFFSETTO:-0800
TZNAME:PST
DTSTART:20261101T090000
END:STANDARD
BEGIN:DAYLIGHT
TZOFFSETFROM:-0800
TZOFFSETTO:-0700
TZNAME:PDT
DTSTART:20270314T100000
END:DAYLIGHT
BEGIN:STANDARD
TZOFFSETFROM:-0700
TZOFFSETTO:-0800
TZNAME:PST
DTSTART:20271107T090000
END:STANDARD
END:VTIMEZONE
BEGIN:VEVENT
DTSTART;VALUE=DATE:20260510
DTEND;VALUE=DATE:20260511
DTSTAMP:20260422T124804
CREATED:20260414T210945Z
LAST-MODIFIED:20260414T210945Z
UID:284773-1778371200-1778457599@pdxparent.com
SUMMARY:Free scoop of Gelato at Pinolo Gelato
DESCRIPTION:Moms — enjoy a special treat on Mother’s Day! Head to Pinolo Gelato for a free small scoop of delicious gelato.
URL:https://pdxparent.com/event-single/free-scoop-of-gelato-at-pinolo-gelato/
LOCATION:Pinolo Gelato\, 3707 SE Division St\, Portland\, 97202
CATEGORIES:Family Fun,Mother's Day
ATTACH;FMTTYPE=image/jpeg:https://pdxparent.com/wp-content/uploads/free-mothers-day-scoop-at-pinolo.jpg
END:VEVENT
END:VCALENDAR