BEGIN:VCALENDAR
VERSION:2.0
PRODID:-//PDX Parent - ECPv6.15.17//NONSGML v1.0//EN
CALSCALE:GREGORIAN
METHOD:PUBLISH
X-WR-CALNAME:PDX Parent
X-ORIGINAL-URL:https://pdxparent.com
X-WR-CALDESC:Events for PDX Parent
REFRESH-INTERVAL;VALUE=DURATION:PT1H
X-Robots-Tag:noindex
X-PUBLISHED-TTL:PT1H
BEGIN:VTIMEZONE
TZID:America/Los_Angeles
BEGIN:DAYLIGHT
TZOFFSETFROM:-0800
TZOFFSETTO:-0700
TZNAME:PDT
DTSTART:20240310T100000
END:DAYLIGHT
BEGIN:STANDARD
TZOFFSETFROM:-0700
TZOFFSETTO:-0800
TZNAME:PST
DTSTART:20241103T090000
END:STANDARD
BEGIN:DAYLIGHT
TZOFFSETFROM:-0800
TZOFFSETTO:-0700
TZNAME:PDT
DTSTART:20250309T100000
END:DAYLIGHT
BEGIN:STANDARD
TZOFFSETFROM:-0700
TZOFFSETTO:-0800
TZNAME:PST
DTSTART:20251102T090000
END:STANDARD
BEGIN:DAYLIGHT
TZOFFSETFROM:-0800
TZOFFSETTO:-0700
TZNAME:PDT
DTSTART:20260308T100000
END:DAYLIGHT
BEGIN:STANDARD
TZOFFSETFROM:-0700
TZOFFSETTO:-0800
TZNAME:PST
DTSTART:20261101T090000
END:STANDARD
END:VTIMEZONE
BEGIN:VEVENT
DTSTART;TZID=America/Los_Angeles:20251206T150000
DTEND;TZID=America/Los_Angeles:20251206T190000
DTSTAMP:20260421T104949
CREATED:20251204T203818Z
LAST-MODIFIED:20251204T203818Z
UID:264468-1765033200-1765047600@pdxparent.com
SUMMARY:Girl Scout and Friends Makers Market
DESCRIPTION:🎄 Join Us for the Girl Scout Troop 10733 Holiday Market! 🎄\n\n\nGet into the holiday spirit with an afternoon of festive fun hosted by Girl Scout Troop 10733! Enjoy delicious food\, browse beautifully crafted handmade gifts\, and capture a magical memory with photos with Santa. This family-friendly event is the perfect way to support local Girl Scouts and kick off the season.\n\n\n📅 December 6th\, 2025⏰ 3:00 PM – 7:00 PM📍 Clackamas United Church of Christ15303 SE Webster Rd\, Milwaukie\, OR 97267\n\n \n\n\nCome celebrate\, shop\, and share the joy of the holidays with us! ✨
URL:https://pdxparent.com/event-single/girl-scout-and-friends-makers-market/
LOCATION:clackamas united church of christ\, 15303 se Webster rd\, Milwaukie\, OR\, 97267
CATEGORIES:Arts/Crafts,Holiday,Holiday Market,Kids Calendar,Santa Sighting
ATTACH;FMTTYPE=image/jpeg:https://pdxparent.com/wp-content/uploads/IMG_7277.jpeg
ORGANIZER;CN="girl scout troop 10733":MAILTO:Carly.Itami@gmail.com
END:VEVENT
END:VCALENDAR