BEGIN:VCALENDAR
VERSION:2.0
PRODID:-//PDX Parent - ECPv6.15.17//NONSGML v1.0//EN
CALSCALE:GREGORIAN
METHOD:PUBLISH
X-WR-CALNAME:PDX Parent
X-ORIGINAL-URL:https://pdxparent.com
X-WR-CALDESC:Events for PDX Parent
REFRESH-INTERVAL;VALUE=DURATION:PT1H
X-Robots-Tag:noindex
X-PUBLISHED-TTL:PT1H
BEGIN:VTIMEZONE
TZID:America/Los_Angeles
BEGIN:DAYLIGHT
TZOFFSETFROM:-0800
TZOFFSETTO:-0700
TZNAME:PDT
DTSTART:20250309T100000
END:DAYLIGHT
BEGIN:STANDARD
TZOFFSETFROM:-0700
TZOFFSETTO:-0800
TZNAME:PST
DTSTART:20251102T090000
END:STANDARD
BEGIN:DAYLIGHT
TZOFFSETFROM:-0800
TZOFFSETTO:-0700
TZNAME:PDT
DTSTART:20260308T100000
END:DAYLIGHT
BEGIN:STANDARD
TZOFFSETFROM:-0700
TZOFFSETTO:-0800
TZNAME:PST
DTSTART:20261101T090000
END:STANDARD
BEGIN:DAYLIGHT
TZOFFSETFROM:-0800
TZOFFSETTO:-0700
TZNAME:PDT
DTSTART:20270314T100000
END:DAYLIGHT
BEGIN:STANDARD
TZOFFSETFROM:-0700
TZOFFSETTO:-0800
TZNAME:PST
DTSTART:20271107T090000
END:STANDARD
END:VTIMEZONE
BEGIN:VEVENT
DTSTART;TZID=America/Los_Angeles:20260404T090000
DTEND;TZID=America/Los_Angeles:20260404T170000
DTSTAMP:20260420T092745
CREATED:20260302T165738Z
LAST-MODIFIED:20260316T205947Z
UID:277707-1775293200-1775322000@pdxparent.com
SUMMARY:Hop Into Spring
DESCRIPTION:This festive event is filled with fun activities for kids 8 and under. Spend the day enjoying animal encounters\, magic and puppet shows\, coloring and crafts\, a bubble party\, lawn games and more.\n\n\nPlenty of costumed characters will be on hand to meet and greet guests\, pose for photos and help welcome the season.\n\n\nOf course\, no spring celebration would be complete without an egg hunt! Participation is $5 and includes a complimentary train or carousel ride!\n\n \n\n\nMimosas will also be available for purchase for those 21 and over.
URL:https://pdxparent.com/event-single/hop-into-spring/
LOCATION:Oregon Zoo\, 4001 SW Canyon Road\, Portland\, OR\, 97221\, United States
CATEGORIES:Active,Animals,Arts/Crafts,Easter,Family Fun,Kids Calendar,Outdoor
ATTACH;FMTTYPE=image/jpeg:https://pdxparent.com/wp-content/uploads/600x600-hop-into-spring-20260309.jpg
GEO:45.507901;-122.7132548
X-APPLE-STRUCTURED-LOCATION;VALUE=URI;X-ADDRESS=Oregon Zoo 4001 SW Canyon Road Portland OR 97221 United States;X-APPLE-RADIUS=500;X-TITLE=4001 SW Canyon Road:geo:-122.7132548,45.507901
END:VEVENT
END:VCALENDAR