BEGIN:VCALENDAR
VERSION:2.0
PRODID:-//PDX Parent - ECPv6.15.17//NONSGML v1.0//EN
CALSCALE:GREGORIAN
METHOD:PUBLISH
X-WR-CALNAME:PDX Parent
X-ORIGINAL-URL:https://pdxparent.com
X-WR-CALDESC:Events for PDX Parent
REFRESH-INTERVAL;VALUE=DURATION:PT1H
X-Robots-Tag:noindex
X-PUBLISHED-TTL:PT1H
BEGIN:VTIMEZONE
TZID:America/Los_Angeles
BEGIN:DAYLIGHT
TZOFFSETFROM:-0800
TZOFFSETTO:-0700
TZNAME:PDT
DTSTART:20250309T100000
END:DAYLIGHT
BEGIN:STANDARD
TZOFFSETFROM:-0700
TZOFFSETTO:-0800
TZNAME:PST
DTSTART:20251102T090000
END:STANDARD
BEGIN:DAYLIGHT
TZOFFSETFROM:-0800
TZOFFSETTO:-0700
TZNAME:PDT
DTSTART:20260308T100000
END:DAYLIGHT
BEGIN:STANDARD
TZOFFSETFROM:-0700
TZOFFSETTO:-0800
TZNAME:PST
DTSTART:20261101T090000
END:STANDARD
BEGIN:DAYLIGHT
TZOFFSETFROM:-0800
TZOFFSETTO:-0700
TZNAME:PDT
DTSTART:20270314T100000
END:DAYLIGHT
BEGIN:STANDARD
TZOFFSETFROM:-0700
TZOFFSETTO:-0800
TZNAME:PST
DTSTART:20271107T090000
END:STANDARD
END:VTIMEZONE
BEGIN:VEVENT
DTSTART;TZID=America/Los_Angeles:20260509T100000
DTEND;TZID=America/Los_Angeles:20260509T130000
DTSTAMP:20260425T155751
CREATED:20260421T194733Z
LAST-MODIFIED:20260421T195214Z
UID:10059329-1778320800-1778331600@pdxparent.com
SUMMARY:Indoor Nature Play Park
DESCRIPTION:Join us for our Indoor Nature Play Park! Enjoy self-guided\, nature-based activities with your child! We will be open rain or shine! Cost is $5.75- $8 per child.\n\n\nWe can’t wait to see you!
URL:https://pdxparent.com/event-single/indoor-nature-play-park/2026-05-09/
LOCATION:Tualatin Hills Nature Center\, 15655 SW Millikan Way
CATEGORIES:Arts/Crafts,Educational,Family Fun,Indoor Play Park,Kids Calendar,Plants & Nature
ATTACH;FMTTYPE=image/jpeg:https://pdxparent.com/wp-content/uploads/Nature-Play-Park.jpeg
ORGANIZER;CN="Tualatin Hills Park and Recreation":MAILTO:k.grant@thprd.org
END:VEVENT
END:VCALENDAR