BEGIN:VCALENDAR
VERSION:2.0
PRODID:-//PDX Parent - ECPv6.15.17//NONSGML v1.0//EN
CALSCALE:GREGORIAN
METHOD:PUBLISH
X-WR-CALNAME:PDX Parent
X-ORIGINAL-URL:https://pdxparent.com
X-WR-CALDESC:Events for PDX Parent
REFRESH-INTERVAL;VALUE=DURATION:PT1H
X-Robots-Tag:noindex
X-PUBLISHED-TTL:PT1H
BEGIN:VTIMEZONE
TZID:America/Los_Angeles
BEGIN:DAYLIGHT
TZOFFSETFROM:-0800
TZOFFSETTO:-0700
TZNAME:PDT
DTSTART:20250309T100000
END:DAYLIGHT
BEGIN:STANDARD
TZOFFSETFROM:-0700
TZOFFSETTO:-0800
TZNAME:PST
DTSTART:20251102T090000
END:STANDARD
BEGIN:DAYLIGHT
TZOFFSETFROM:-0800
TZOFFSETTO:-0700
TZNAME:PDT
DTSTART:20260308T100000
END:DAYLIGHT
BEGIN:STANDARD
TZOFFSETFROM:-0700
TZOFFSETTO:-0800
TZNAME:PST
DTSTART:20261101T090000
END:STANDARD
BEGIN:DAYLIGHT
TZOFFSETFROM:-0800
TZOFFSETTO:-0700
TZNAME:PDT
DTSTART:20270314T100000
END:DAYLIGHT
BEGIN:STANDARD
TZOFFSETFROM:-0700
TZOFFSETTO:-0800
TZNAME:PST
DTSTART:20271107T090000
END:STANDARD
END:VTIMEZONE
BEGIN:VEVENT
DTSTART;VALUE=DATE:20260517
DTEND;VALUE=DATE:20260518
DTSTAMP:20260423T054923
CREATED:20260411T012704Z
LAST-MODIFIED:20260411T012704Z
UID:10058204-1778976000-1779062399@pdxparent.com
SUMMARY:Into the Woods at NWCT
DESCRIPTION:Experience one of musical theater’s most iconic shows\, performed by the talented members of Catalyst: NWCT’s Youth Company. With timeless songs like “Children Will Listen\,” “No One Is Alone\,” and “Agony\,” Into the Woods weaves together beloved fairy tale characters in a fast-paced journey full of humor\, heart\, and surprising twists\n\n\nInto the Woods is presented through special arrangement with Music Theatre International (MTI). All authorized performance materials are also supplied by MTI.\n\n\nMusic and Lyrics by Stephen Sondheim\nBook by James Lapine\nOriginally Directed on Broadway by James Lapine\nOrchestrations by Jonathan Tunick\nDirected by Dustin Brown\n\n \n\n\nMost enjoyed by ages 8 & up. Showtimes at 11 am and 3:30 pm. Youth $10; Adults $15.\n\n\nEstimated run time: 2.5 hours with a 15 minute intermission
URL:https://pdxparent.com/event-single/into-the-woods-at-nwct/2026-05-17/
LOCATION:The Judy\, 1000 SW Broadway\, T-100\, Portland\, OR
CATEGORIES:Indoor,Kids Calendar,Theater
ATTACH;FMTTYPE=image/jpeg:https://pdxparent.com/wp-content/uploads/into-the-woods-nwct.jpg
END:VEVENT
END:VCALENDAR