BEGIN:VCALENDAR
VERSION:2.0
PRODID:-//PDX Parent - ECPv6.15.17//NONSGML v1.0//EN
CALSCALE:GREGORIAN
METHOD:PUBLISH
X-WR-CALNAME:PDX Parent
X-ORIGINAL-URL:https://pdxparent.com
X-WR-CALDESC:Events for PDX Parent
REFRESH-INTERVAL;VALUE=DURATION:PT1H
X-Robots-Tag:noindex
X-PUBLISHED-TTL:PT1H
BEGIN:VTIMEZONE
TZID:America/Los_Angeles
BEGIN:DAYLIGHT
TZOFFSETFROM:-0800
TZOFFSETTO:-0700
TZNAME:PDT
DTSTART:20240310T100000
END:DAYLIGHT
BEGIN:STANDARD
TZOFFSETFROM:-0700
TZOFFSETTO:-0800
TZNAME:PST
DTSTART:20241103T090000
END:STANDARD
BEGIN:DAYLIGHT
TZOFFSETFROM:-0800
TZOFFSETTO:-0700
TZNAME:PDT
DTSTART:20250309T100000
END:DAYLIGHT
BEGIN:STANDARD
TZOFFSETFROM:-0700
TZOFFSETTO:-0800
TZNAME:PST
DTSTART:20251102T090000
END:STANDARD
BEGIN:DAYLIGHT
TZOFFSETFROM:-0800
TZOFFSETTO:-0700
TZNAME:PDT
DTSTART:20260308T100000
END:DAYLIGHT
BEGIN:STANDARD
TZOFFSETFROM:-0700
TZOFFSETTO:-0800
TZNAME:PST
DTSTART:20261101T090000
END:STANDARD
END:VTIMEZONE
BEGIN:VEVENT
DTSTART;TZID=America/Los_Angeles:20251218T173000
DTEND;TZID=America/Los_Angeles:20251218T200000
DTSTAMP:20260421T080133
CREATED:20251126T055046Z
LAST-MODIFIED:20251126T055046Z
UID:10047144-1766079000-1766088000@pdxparent.com
SUMMARY:Lightopia: An Illuminated Journey in Hillsboro
DESCRIPTION:Drive through this free light show at Gordon Faber Recreation Complex\, over a half-mile. New this year: no tickets or reservations required! All visits are first come\, first served 7 days a week.\n\n\nDecember 9 – December 28*\nMonday – Thursday: 5:30 to 8 pm\nFriday – Sunday: 5:30 to 9 pm\n\n\n*Lightopia will be closed: December 15\, 24 & 25
URL:https://pdxparent.com/event-single/lightopia-an-illuminated-journey-in-hillsboro/2025-12-18/
LOCATION:Gordan Farmber Recreation Center\, 4450 NE Century Boulevard\, Hillsboro
CATEGORIES:Family Fun,Holiday,Kids Calendar
ATTACH;FMTTYPE=image/png:https://pdxparent.com/wp-content/uploads/lightopia-1.png
END:VEVENT
END:VCALENDAR