BEGIN:VCALENDAR
VERSION:2.0
PRODID:-//PDX Parent - ECPv6.15.17//NONSGML v1.0//EN
CALSCALE:GREGORIAN
METHOD:PUBLISH
X-WR-CALNAME:PDX Parent
X-ORIGINAL-URL:https://pdxparent.com
X-WR-CALDESC:Events for PDX Parent
REFRESH-INTERVAL;VALUE=DURATION:PT1H
X-Robots-Tag:noindex
X-PUBLISHED-TTL:PT1H
BEGIN:VTIMEZONE
TZID:America/Los_Angeles
BEGIN:DAYLIGHT
TZOFFSETFROM:-0800
TZOFFSETTO:-0700
TZNAME:PDT
DTSTART:20250309T100000
END:DAYLIGHT
BEGIN:STANDARD
TZOFFSETFROM:-0700
TZOFFSETTO:-0800
TZNAME:PST
DTSTART:20251102T090000
END:STANDARD
BEGIN:DAYLIGHT
TZOFFSETFROM:-0800
TZOFFSETTO:-0700
TZNAME:PDT
DTSTART:20260308T100000
END:DAYLIGHT
BEGIN:STANDARD
TZOFFSETFROM:-0700
TZOFFSETTO:-0800
TZNAME:PST
DTSTART:20261101T090000
END:STANDARD
BEGIN:DAYLIGHT
TZOFFSETFROM:-0800
TZOFFSETTO:-0700
TZNAME:PDT
DTSTART:20270314T100000
END:DAYLIGHT
BEGIN:STANDARD
TZOFFSETFROM:-0700
TZOFFSETTO:-0800
TZNAME:PST
DTSTART:20271107T090000
END:STANDARD
END:VTIMEZONE
BEGIN:VEVENT
DTSTART;TZID=America/Los_Angeles:20260424T190000
DTEND;TZID=America/Los_Angeles:20260424T203000
DTSTAMP:20260421T113324
CREATED:20260318T224818Z
LAST-MODIFIED:20260318T224818Z
UID:10056756-1777057200-1777062600@pdxparent.com
SUMMARY:Mary Poppins Jr.
DESCRIPTION: Anything can happen if you let it! \n\n\n\n\n\nThe talented students of Odyssey and Liberty Middle Schools have been working hard to bring the magic of Cherry Tree Lane to Camas! Come support our local young performers in their upcoming production of Mary Poppins Jr. It’s going to be a “Jolly Holiday” for the whole family!\n\n\n Where: Garver Theater\, Camas\, WA\n\n\n When: * Friday\, April 24 @ 7:00 pm\n\n\n\n\nSaturday\, April 25 @ 2:30 pm & 7:00 pm\n\n\n\n\n Tickets: $10 for Adults / $7.50 for Children\, Seniors\, & Veterans. \n\nhttps://events.hometownticketing.com/boxoffice/camas/L2VtYmVkL2FsbD9kZXB0cz0z\n\nEditor’s note: This event is a community submission.
URL:https://pdxparent.com/event-single/mary-poppins-jr/2026-04-24/
LOCATION:Joyce Garver Theater\, 1500 NE Garfield St\, Camas\, WA\, 98607\, United States
CATEGORIES:Family Fun,Kids Calendar,Theater
ATTACH;FMTTYPE=image/png:https://pdxparent.com/wp-content/uploads/26MPjr-Soc.Media-post.png
END:VEVENT
END:VCALENDAR