BEGIN:VCALENDAR
VERSION:2.0
PRODID:-//PDX Parent - ECPv6.15.17//NONSGML v1.0//EN
CALSCALE:GREGORIAN
METHOD:PUBLISH
X-WR-CALNAME:PDX Parent
X-ORIGINAL-URL:https://pdxparent.com
X-WR-CALDESC:Events for PDX Parent
REFRESH-INTERVAL;VALUE=DURATION:PT1H
X-Robots-Tag:noindex
X-PUBLISHED-TTL:PT1H
BEGIN:VTIMEZONE
TZID:America/Los_Angeles
BEGIN:DAYLIGHT
TZOFFSETFROM:-0800
TZOFFSETTO:-0700
TZNAME:PDT
DTSTART:20250309T100000
END:DAYLIGHT
BEGIN:STANDARD
TZOFFSETFROM:-0700
TZOFFSETTO:-0800
TZNAME:PST
DTSTART:20251102T090000
END:STANDARD
BEGIN:DAYLIGHT
TZOFFSETFROM:-0800
TZOFFSETTO:-0700
TZNAME:PDT
DTSTART:20260308T100000
END:DAYLIGHT
BEGIN:STANDARD
TZOFFSETFROM:-0700
TZOFFSETTO:-0800
TZNAME:PST
DTSTART:20261101T090000
END:STANDARD
BEGIN:DAYLIGHT
TZOFFSETFROM:-0800
TZOFFSETTO:-0700
TZNAME:PDT
DTSTART:20270314T100000
END:DAYLIGHT
BEGIN:STANDARD
TZOFFSETFROM:-0700
TZOFFSETTO:-0800
TZNAME:PST
DTSTART:20271107T090000
END:STANDARD
END:VTIMEZONE
BEGIN:VEVENT
DTSTART;TZID=America/Los_Angeles:20260425T100000
DTEND;TZID=America/Los_Angeles:20260425T110000
DTSTAMP:20260424T033601
CREATED:20260421T195845Z
LAST-MODIFIED:20260421T195845Z
UID:285152-1777111200-1777114800@pdxparent.com
SUMMARY:Meet the Author: Fern Wexler Shares families of a feather
DESCRIPTION:Join us for a heartwarming morning celebrating family\, creativity\, and community!\n\n\nWe’re thrilled to welcome guest author Fern Wexler to share their beautifully inclusive children’s book\, Families of a Feather: A Celebration of Family Diversity. Fern will read their story aloud and have copies on hand to purchase and cherish at home.\n\n\nWe’ll also spend time outdoors engaging in nature-based exploration—observing\, wondering\, and connecting with the world around us in a playful and meaningful way.\n\n \n\n\n✨ Free and open to the public✨ Ideal for children ages 2–7 and their families\n\n\nWe can’t wait to welcome you to our nest. 💛\n\n\nEditor’s note: This event is a community submission.
URL:https://pdxparent.com/event-single/meet-the-author-fern-wexler-shares-families-of-a-feather-2/
LOCATION:Little Nestlings Early Learning Center\, 19200 Willamette Drive\, West Linn\, O\, 97068\, United States
CATEGORIES:Kids Calendar
ATTACH;FMTTYPE=image/png:https://pdxparent.com/wp-content/uploads/families-of-a-feather-4.png
ORGANIZER;CN="Little Nestlings Early Learning Center":MAILTO:colleen.littlenestlings@gmail.com
END:VEVENT
END:VCALENDAR