BEGIN:VCALENDAR
VERSION:2.0
PRODID:-//PDX Parent - ECPv6.15.17//NONSGML v1.0//EN
CALSCALE:GREGORIAN
METHOD:PUBLISH
X-WR-CALNAME:PDX Parent
X-ORIGINAL-URL:https://pdxparent.com
X-WR-CALDESC:Events for PDX Parent
REFRESH-INTERVAL;VALUE=DURATION:PT1H
X-Robots-Tag:noindex
X-PUBLISHED-TTL:PT1H
BEGIN:VTIMEZONE
TZID:America/Los_Angeles
BEGIN:DAYLIGHT
TZOFFSETFROM:-0800
TZOFFSETTO:-0700
TZNAME:PDT
DTSTART:20250309T100000
END:DAYLIGHT
BEGIN:STANDARD
TZOFFSETFROM:-0700
TZOFFSETTO:-0800
TZNAME:PST
DTSTART:20251102T090000
END:STANDARD
BEGIN:DAYLIGHT
TZOFFSETFROM:-0800
TZOFFSETTO:-0700
TZNAME:PDT
DTSTART:20260308T100000
END:DAYLIGHT
BEGIN:STANDARD
TZOFFSETFROM:-0700
TZOFFSETTO:-0800
TZNAME:PST
DTSTART:20261101T090000
END:STANDARD
BEGIN:DAYLIGHT
TZOFFSETFROM:-0800
TZOFFSETTO:-0700
TZNAME:PDT
DTSTART:20270314T100000
END:DAYLIGHT
BEGIN:STANDARD
TZOFFSETFROM:-0700
TZOFFSETTO:-0800
TZNAME:PST
DTSTART:20271107T090000
END:STANDARD
END:VTIMEZONE
BEGIN:VEVENT
DTSTART;TZID=America/Los_Angeles:20260404T100000
DTEND;TZID=America/Los_Angeles:20260404T120000
DTSTAMP:20260422T061700
CREATED:20260302T195512Z
LAST-MODIFIED:20260302T195512Z
UID:277781-1775296800-1775304000@pdxparent.com
SUMMARY:Molalla Easter Egg Hunt
DESCRIPTION:The event opens at 10:00 AM with family-friendly activities including face painting\, rock painting\, bunny hop fun\, coffee\, donuts\, and special appearances by Mr. & Mrs. Easter Bunny.\n\n\nThe Easter Egg Hunt begins at 10:30 AM sharp — so be sure to arrive early!\n\n\nThis is a free community event for families to come together\, celebrate\, and make sweet memories. Invite your friends\, bring your baskets\, and we’ll see you there!
URL:https://pdxparent.com/event-single/molalla-easter-egg-hunt/
LOCATION:Clark Park in Molalla\, 815 Shirley St.\, Molalla\, OR\, 97038
CATEGORIES:Easter,Family Fun,Kids Calendar,Outdoor
ATTACH;FMTTYPE=image/jpeg:https://pdxparent.com/wp-content/uploads/molalla-egg-hunt.jpg
END:VEVENT
END:VCALENDAR