BEGIN:VCALENDAR
VERSION:2.0
PRODID:-//PDX Parent - ECPv6.15.17//NONSGML v1.0//EN
CALSCALE:GREGORIAN
METHOD:PUBLISH
X-WR-CALNAME:PDX Parent
X-ORIGINAL-URL:https://pdxparent.com
X-WR-CALDESC:Events for PDX Parent
REFRESH-INTERVAL;VALUE=DURATION:PT1H
X-Robots-Tag:noindex
X-PUBLISHED-TTL:PT1H
BEGIN:VTIMEZONE
TZID:America/Los_Angeles
BEGIN:DAYLIGHT
TZOFFSETFROM:-0800
TZOFFSETTO:-0700
TZNAME:PDT
DTSTART:20250309T100000
END:DAYLIGHT
BEGIN:STANDARD
TZOFFSETFROM:-0700
TZOFFSETTO:-0800
TZNAME:PST
DTSTART:20251102T090000
END:STANDARD
BEGIN:DAYLIGHT
TZOFFSETFROM:-0800
TZOFFSETTO:-0700
TZNAME:PDT
DTSTART:20260308T100000
END:DAYLIGHT
BEGIN:STANDARD
TZOFFSETFROM:-0700
TZOFFSETTO:-0800
TZNAME:PST
DTSTART:20261101T090000
END:STANDARD
BEGIN:DAYLIGHT
TZOFFSETFROM:-0800
TZOFFSETTO:-0700
TZNAME:PDT
DTSTART:20270314T100000
END:DAYLIGHT
BEGIN:STANDARD
TZOFFSETFROM:-0700
TZOFFSETTO:-0800
TZNAME:PST
DTSTART:20271107T090000
END:STANDARD
END:VTIMEZONE
BEGIN:VEVENT
DTSTART;VALUE=DATE:20260425
DTEND;VALUE=DATE:20260426
DTSTAMP:20260424T164337
CREATED:20260329T235229Z
LAST-MODIFIED:20260329T235229Z
UID:10057594-1777075200-1777161599@pdxparent.com
SUMMARY:North Portland Book Crawl
DESCRIPTION:Celebrate Independent Bookstore Day all weekend with year two of the North Portland Book Crawl! With three new stops\, new maps\, and double the prize package supporting your local bookstores has never been so fun!\n\n\nEvent details:\n\nPick up your punch card at any participating shop!\n\nGet your card punched or stamped at each shop any time on Independent Bookstore Day (Saturday 4/25) or Sunday 4/26. You just need to visit\, no purchase required.\n\n\n\n\nDrop off your card at Second Shapes Bookstore (8124 N. Denver Ave) or send a picture to @secondshapesbookstore on social media or hello@secondshapesbookstore.com.\n\n\n\n\nEveryone who participates gets a free used book from Second Shapes! One lucky winner will get an amazing prize package with gifts from all participating shops.\n\n \n\n\n\n\nParticipating Shops:\n\n\n\n\nReggie’s Manga Shop\, 7015 N Greeley\n\n\n\n\nSecond Shapes Bookstore\, 8124 N Denver\n\n\n\n\nArches Book House\, 8900 N Wall\n\n\n\n\nAlways Here Book Store\, 4555 N Williams\n\n\n\n\nRevolutions Bookshop\, 8713 N Lombard\n\n\n\n\nTwo Rivers Bookstore\, 8836 N Lombard\n\n\n\n\nGreen Bean Books\, 1600 NE Alberta\n\n\n\n\nMidslumber Media\, 1609 NE Alberta\n\n\n\n\nMelville Books\, 2827 NE Alberta\n\n\n\n\nParallel Worlds\, 2639 NE Alberta\n\n\n\n\nMonograph Bookwerks\, 5005 NE 27th Ave*\n\n\n\n\nRose City Book Pub\, 1329 NE Fremont*\n\n\n\n\nA Children’s Place\, 1423 NE Fremont*
URL:https://pdxparent.com/event-single/north-portland-book-crawl/2026-04-25/
CATEGORIES:Educational,Family Fun,Kids Calendar
ATTACH;FMTTYPE=image/jpeg:https://pdxparent.com/wp-content/uploads/North-Portland-Book-Crawl.jpg
END:VEVENT
END:VCALENDAR