BEGIN:VCALENDAR
VERSION:2.0
PRODID:-//PDX Parent - ECPv6.15.17//NONSGML v1.0//EN
CALSCALE:GREGORIAN
METHOD:PUBLISH
X-WR-CALNAME:PDX Parent
X-ORIGINAL-URL:https://pdxparent.com
X-WR-CALDESC:Events for PDX Parent
REFRESH-INTERVAL;VALUE=DURATION:PT1H
X-Robots-Tag:noindex
X-PUBLISHED-TTL:PT1H
BEGIN:VTIMEZONE
TZID:America/Los_Angeles
BEGIN:DAYLIGHT
TZOFFSETFROM:-0800
TZOFFSETTO:-0700
TZNAME:PDT
DTSTART:20240310T100000
END:DAYLIGHT
BEGIN:STANDARD
TZOFFSETFROM:-0700
TZOFFSETTO:-0800
TZNAME:PST
DTSTART:20241103T090000
END:STANDARD
BEGIN:DAYLIGHT
TZOFFSETFROM:-0800
TZOFFSETTO:-0700
TZNAME:PDT
DTSTART:20250309T100000
END:DAYLIGHT
BEGIN:STANDARD
TZOFFSETFROM:-0700
TZOFFSETTO:-0800
TZNAME:PST
DTSTART:20251102T090000
END:STANDARD
BEGIN:DAYLIGHT
TZOFFSETFROM:-0800
TZOFFSETTO:-0700
TZNAME:PDT
DTSTART:20260308T100000
END:DAYLIGHT
BEGIN:STANDARD
TZOFFSETFROM:-0700
TZOFFSETTO:-0800
TZNAME:PST
DTSTART:20261101T090000
END:STANDARD
END:VTIMEZONE
BEGIN:VEVENT
DTSTART;TZID=America/Los_Angeles:20251108T080000
DTEND;TZID=America/Los_Angeles:20251108T170000
DTSTAMP:20260421T094754
CREATED:20251020T021457Z
LAST-MODIFIED:20251020T021457Z
UID:248095-1762588800-1762621200@pdxparent.com
SUMMARY:NW’s Largest Garage Sale & Vintage Sale
DESCRIPTION:Get ready for the ultimate shopping experience at the NW Largest Mega and Vintage Sale! 🎉 With over 450 unique vendors featuring everything from vintage treasures to unbeatable deals\, this is a day you won’t want to miss! Join us at the Clark County Event Center for an unforgettable blend of fun\, shopping\, and lasting memories. Gather your friends\, explore vibrant booths\, and enjoy a lively atmosphere filled with excitement. Click now to secure your spot and dive into a world of incredible finds. 🛍️✨\n\n\nAdults: $8; Kids under 12: Free
URL:https://pdxparent.com/event-single/nws-largest-garage-sale-vintage-sale/
LOCATION:Clark County Event Center
CATEGORIES:Family Fun,Indoor,Kids Calendar
ATTACH;FMTTYPE=image/png:https://pdxparent.com/wp-content/uploads/NW-Largest-Garage-Sale-Fall-Sale.png
END:VEVENT
END:VCALENDAR