BEGIN:VCALENDAR
VERSION:2.0
PRODID:-//PDX Parent - ECPv6.15.17//NONSGML v1.0//EN
CALSCALE:GREGORIAN
METHOD:PUBLISH
X-WR-CALNAME:PDX Parent
X-ORIGINAL-URL:https://pdxparent.com
X-WR-CALDESC:Events for PDX Parent
REFRESH-INTERVAL;VALUE=DURATION:PT1H
X-Robots-Tag:noindex
X-PUBLISHED-TTL:PT1H
BEGIN:VTIMEZONE
TZID:America/Los_Angeles
BEGIN:DAYLIGHT
TZOFFSETFROM:-0800
TZOFFSETTO:-0700
TZNAME:PDT
DTSTART:20250309T100000
END:DAYLIGHT
BEGIN:STANDARD
TZOFFSETFROM:-0700
TZOFFSETTO:-0800
TZNAME:PST
DTSTART:20251102T090000
END:STANDARD
BEGIN:DAYLIGHT
TZOFFSETFROM:-0800
TZOFFSETTO:-0700
TZNAME:PDT
DTSTART:20260308T100000
END:DAYLIGHT
BEGIN:STANDARD
TZOFFSETFROM:-0700
TZOFFSETTO:-0800
TZNAME:PST
DTSTART:20261101T090000
END:STANDARD
BEGIN:DAYLIGHT
TZOFFSETFROM:-0800
TZOFFSETTO:-0700
TZNAME:PDT
DTSTART:20270314T100000
END:DAYLIGHT
BEGIN:STANDARD
TZOFFSETFROM:-0700
TZOFFSETTO:-0800
TZNAME:PST
DTSTART:20271107T090000
END:STANDARD
END:VTIMEZONE
BEGIN:VEVENT
DTSTART;TZID=America/Los_Angeles:20260517T120000
DTEND;TZID=America/Los_Angeles:20260517T143000
DTSTAMP:20260420T071635
CREATED:20260410T183720Z
LAST-MODIFIED:20260410T190331Z
UID:284004-1779019200-1779028200@pdxparent.com
SUMMARY:OCT Presents Red Yarn & Friends
DESCRIPTION:Enjoy a family concert with Red Yarn & Friends! This special\, one-day-only event will be full of music\, puppetry\, storytelling\, and a ton of fun!\n\n\nHead to The Abbey at 12 pm to participate in a fun puppet-building craft with puppeteer and designer Faerin Millington! At 1 pm\, Local blues musician Tevis Hodge Jr will open the show\, followed by Portland favorites\, the Red Yarn Band. Then\, Red Yarn & Friends — including Tevis on guitar and guest vocalists Alexis Walker and Brael Armstrong — will present several new songs from their brand-new\, upcoming family musical\, Saturday Night at the Briar Patch!\n\n\nSeating is limited — be sure to reserve tickets! $15 kids\, $19 adults.
URL:https://pdxparent.com/event-single/oct-presents-red-yarn-friends/
LOCATION:The Abbey\, 126 NE Alberta St\, Portland
CATEGORIES:Family Fun,Kids Calendar,Music
ATTACH;FMTTYPE=image/png:https://pdxparent.com/wp-content/uploads/Red-Yard-Square-1.png
END:VEVENT
END:VCALENDAR