BEGIN:VCALENDAR
VERSION:2.0
PRODID:-//PDX Parent - ECPv6.15.17//NONSGML v1.0//EN
CALSCALE:GREGORIAN
METHOD:PUBLISH
X-WR-CALNAME:PDX Parent
X-ORIGINAL-URL:https://pdxparent.com
X-WR-CALDESC:Events for PDX Parent
REFRESH-INTERVAL;VALUE=DURATION:PT1H
X-Robots-Tag:noindex
X-PUBLISHED-TTL:PT1H
BEGIN:VTIMEZONE
TZID:America/Los_Angeles
BEGIN:DAYLIGHT
TZOFFSETFROM:-0800
TZOFFSETTO:-0700
TZNAME:PDT
DTSTART:20240310T100000
END:DAYLIGHT
BEGIN:STANDARD
TZOFFSETFROM:-0700
TZOFFSETTO:-0800
TZNAME:PST
DTSTART:20241103T090000
END:STANDARD
BEGIN:DAYLIGHT
TZOFFSETFROM:-0800
TZOFFSETTO:-0700
TZNAME:PDT
DTSTART:20250309T100000
END:DAYLIGHT
BEGIN:STANDARD
TZOFFSETFROM:-0700
TZOFFSETTO:-0800
TZNAME:PST
DTSTART:20251102T090000
END:STANDARD
BEGIN:DAYLIGHT
TZOFFSETFROM:-0800
TZOFFSETTO:-0700
TZNAME:PDT
DTSTART:20260308T100000
END:DAYLIGHT
BEGIN:STANDARD
TZOFFSETFROM:-0700
TZOFFSETTO:-0800
TZNAME:PST
DTSTART:20261101T090000
END:STANDARD
END:VTIMEZONE
BEGIN:VEVENT
DTSTART;TZID=America/Los_Angeles:20250810T090000
DTEND;TZID=America/Los_Angeles:20250810T160000
DTSTAMP:20260424T110409
CREATED:20250806T163840Z
LAST-MODIFIED:20250806T163840Z
UID:10012232-1754816400-1754841600@pdxparent.com
SUMMARY:Oregon City Festival of the Arts
DESCRIPTION:Head to the 9th Annual Oregon City Festival of the Arts! This vibrant and premier outdoor cultural event\, hosted by Three Rivers Artist Guild in Oregon City\, is free to the public and will feature up to 60 established and new artist showcasing their best creativity in various mediums and techniques.\n\n\nKid activities include:\n\n\n-FREE Summer Art Activities for kids under the covered picnic table located at the entrance of the park.\n\n \n\n\n-Charlotte Swenson Face Painting\, Henna Tattoos and Balloon Animals\n\n\nThe festival will include a spacious\, shaded stage that will host local musical talents curated in partnership with Oregon City Porch Fest\, interactive art activities led by Soul Flags\, and a selection of food and tasty treats from local food trucks.\n\n\nPerformer lineup:\n\n\nSaturday\, August 9\n\n\n\n9:00am–10:00am\nDany Oakes – Lively pop\, rock\, dance all night long music!\nwww.danyoakes.com\n\n\n9:00am–10:00am\nHeather Andrews (Garden Stage) – Harpist and local artist will provide soothing music to garden guests.\nwww.heatherandrewsbugs.com\n\n\n10:30am–11:30am\nSarah Lodge – An eclectic blend of R&B\, Soul\, Funk\, Rock\, Pop\, Country & Traditional Jazz music.\nwww.sarahlodgemusic.com\n\n\n11:45am–12:45pm\nDanit Chetron – Soulful vocals grounded in rock\, jazz\, R&B\, folk & international music.\nwww.danitmusic.com\n\n\n12:00pm–1:00pm\nPorchfest Performance (Garden Stage)\nwww.oregoncityporchfest.com\n\n\n1:00pm–2:00pm\nCorey Johnson Duo – Corey Mitchell was a founding member of Freight Train Jaine and Macey Gard Band\, as well as a member of Carlyle. Doug Johnson has an extensive music resume with Portland Metro bands. For the last two years Doug and Corey have been making music together.\n\n\n2:00pm–3:00pm\nHeather Andrews (Garden Stage) – Harpist and local artist will provide soothing music to garden guests.\nwww.heatherandrewsbugs.com\n\n\n3:00pm–4:00pm\nPorchfest Performance (Garden Stage)\nwww.oregoncityporchfest.com\n\n\n\nSunday\, August 10\n\n\n\n9:00am–10:00am\nMark Seymour and Friends – A collection of all-star performers on guitar\, keyboards\, and drums. Mix of Folk\, Blues\, Americana\, Rock\, Country & Gospel from the last 60 years.\nwww.markseymourandfriends.com\n\n\n10:30am–11:30am\nGold & Honey – This duo\, featuring April Krubel and Elijah Johnson\, is known for their smooth\, bluesy vocals and sultry guitar hits from the 70’s–today.\nwww.instagram.com/goldhoneyduo\n\n\n11:45am–12:45pm\nVinyl Echos – Trio delivering high energy music. Blends classic and current tunes\, merging rock with country\, from AC/DC to Dwight Yoakam.\nwww.thevinylechos.com
URL:https://pdxparent.com/event-single/oregon-city-festival-of-the-arts/2025-08-10/
LOCATION:End of the Oregon Trail Interpretive and Visitor Information Center\, 1726 Washington St\, Oregon City\, OR\, United States
CATEGORIES:Arts/Crafts,Family Fun,Festival,Kids Calendar,Outdoor
ATTACH;FMTTYPE=image/png:https://pdxparent.com/wp-content/uploads/Oregon-City-Festival-of-the-Arts.png
END:VEVENT
END:VCALENDAR