BEGIN:VCALENDAR
VERSION:2.0
PRODID:-//PDX Parent - ECPv6.15.17//NONSGML v1.0//EN
CALSCALE:GREGORIAN
METHOD:PUBLISH
X-WR-CALNAME:PDX Parent
X-ORIGINAL-URL:https://pdxparent.com
X-WR-CALDESC:Events for PDX Parent
REFRESH-INTERVAL;VALUE=DURATION:PT1H
X-Robots-Tag:noindex
X-PUBLISHED-TTL:PT1H
BEGIN:VTIMEZONE
TZID:America/Los_Angeles
BEGIN:DAYLIGHT
TZOFFSETFROM:-0800
TZOFFSETTO:-0700
TZNAME:PDT
DTSTART:20250309T100000
END:DAYLIGHT
BEGIN:STANDARD
TZOFFSETFROM:-0700
TZOFFSETTO:-0800
TZNAME:PST
DTSTART:20251102T090000
END:STANDARD
BEGIN:DAYLIGHT
TZOFFSETFROM:-0800
TZOFFSETTO:-0700
TZNAME:PDT
DTSTART:20260308T100000
END:DAYLIGHT
BEGIN:STANDARD
TZOFFSETFROM:-0700
TZOFFSETTO:-0800
TZNAME:PST
DTSTART:20261101T090000
END:STANDARD
BEGIN:DAYLIGHT
TZOFFSETFROM:-0800
TZOFFSETTO:-0700
TZNAME:PDT
DTSTART:20270314T100000
END:DAYLIGHT
BEGIN:STANDARD
TZOFFSETFROM:-0700
TZOFFSETTO:-0800
TZNAME:PST
DTSTART:20271107T090000
END:STANDARD
END:VTIMEZONE
BEGIN:VEVENT
DTSTART;TZID=America/Los_Angeles:20260510T133000
DTEND;TZID=America/Los_Angeles:20260510T153000
DTSTAMP:20260420T061023
CREATED:20260414T225559Z
LAST-MODIFIED:20260414T225612Z
UID:284831-1778419800-1778427000@pdxparent.com
SUMMARY:Painted Cakes & Pairings: Mother's Day Class at Cake Hoopla
DESCRIPTION:Celebrate Mother’s Day with a creative twist at Cake Hoopla in Tigard. This intimate\, limited-seat experience features a guided watercolor-style cake-decorating class plus curated wine\, cheese\, and cake pairings. Perfect for moms\, friends\, or a memorable girls’ outing. Advance tickets required.
URL:https://pdxparent.com/event-single/painted-cakes-pairings-mothers-day-class-at-cake-hoopla/
LOCATION:Cake Hoopla\, 7173 SW Dartmouth St.\, Tigard\, OR\, 97223
CATEGORIES:Mother's Day
ATTACH;FMTTYPE=image/jpeg:https://pdxparent.com/wp-content/uploads/mothers-day-at-cake-hoopla.jpg
END:VEVENT
END:VCALENDAR