BEGIN:VCALENDAR
VERSION:2.0
PRODID:-//PDX Parent - ECPv6.15.17//NONSGML v1.0//EN
CALSCALE:GREGORIAN
METHOD:PUBLISH
X-WR-CALNAME:PDX Parent
X-ORIGINAL-URL:https://pdxparent.com
X-WR-CALDESC:Events for PDX Parent
REFRESH-INTERVAL;VALUE=DURATION:PT1H
X-Robots-Tag:noindex
X-PUBLISHED-TTL:PT1H
BEGIN:VTIMEZONE
TZID:America/Los_Angeles
BEGIN:DAYLIGHT
TZOFFSETFROM:-0800
TZOFFSETTO:-0700
TZNAME:PDT
DTSTART:20250309T100000
END:DAYLIGHT
BEGIN:STANDARD
TZOFFSETFROM:-0700
TZOFFSETTO:-0800
TZNAME:PST
DTSTART:20251102T090000
END:STANDARD
BEGIN:DAYLIGHT
TZOFFSETFROM:-0800
TZOFFSETTO:-0700
TZNAME:PDT
DTSTART:20260308T100000
END:DAYLIGHT
BEGIN:STANDARD
TZOFFSETFROM:-0700
TZOFFSETTO:-0800
TZNAME:PST
DTSTART:20261101T090000
END:STANDARD
BEGIN:DAYLIGHT
TZOFFSETFROM:-0800
TZOFFSETTO:-0700
TZNAME:PDT
DTSTART:20270314T100000
END:DAYLIGHT
BEGIN:STANDARD
TZOFFSETFROM:-0700
TZOFFSETTO:-0800
TZNAME:PST
DTSTART:20271107T090000
END:STANDARD
END:VTIMEZONE
BEGIN:VEVENT
DTSTART;TZID=America/Los_Angeles:20260510T100000
DTEND;TZID=America/Los_Angeles:20260510T140000
DTSTAMP:20260423T094731
CREATED:20260420T210601Z
LAST-MODIFIED:20260420T211103Z
UID:285970-1778407200-1778421600@pdxparent.com
SUMMARY:Peruvian High Tea at Andina
DESCRIPTION:This Mother’s Day\, Andina reimagines the tradition of high tea in a Peruvian style. Drawing from Peru’s late-afternoon “lonche” of sweets\, breads\, and warm drinks\, Andina’s High Tea offers a curated menu of sweet and savory bites\, including ají amarillo knish and Peruvian chocolate cake bites\, accompanied by a selection of teas\, including a special Cacao Husk Tea from Prophecy Chocolate in Vermont. Decadent\, memorable\, and a perfect way to celebrate mamá.\n\n\n \n\n\nSunday\, May 10 // 10 AM – 2 PM\n\n \n\n\n$65 per person // Reservations can be made here.\n\n\nRegular brunch service will also be available in Andina’s lounge on Saturday and Sunday.\n\n\n1314 NW Glisan Street // @andinapdx 
URL:https://pdxparent.com/event-single/peruvian-high-tea-at-andina/
LOCATION:1314 NW Glisan Street\, 1314 NW Glisan Street\, Portland
CATEGORIES:Mother's Day
ATTACH;FMTTYPE=image/png:https://pdxparent.com/wp-content/uploads/Brunch.png
END:VEVENT
END:VCALENDAR