BEGIN:VCALENDAR
VERSION:2.0
PRODID:-//PDX Parent - ECPv6.15.17//NONSGML v1.0//EN
CALSCALE:GREGORIAN
METHOD:PUBLISH
X-WR-CALNAME:PDX Parent
X-ORIGINAL-URL:https://pdxparent.com
X-WR-CALDESC:Events for PDX Parent
REFRESH-INTERVAL;VALUE=DURATION:PT1H
X-Robots-Tag:noindex
X-PUBLISHED-TTL:PT1H
BEGIN:VTIMEZONE
TZID:America/Los_Angeles
BEGIN:DAYLIGHT
TZOFFSETFROM:-0800
TZOFFSETTO:-0700
TZNAME:PDT
DTSTART:20250309T100000
END:DAYLIGHT
BEGIN:STANDARD
TZOFFSETFROM:-0700
TZOFFSETTO:-0800
TZNAME:PST
DTSTART:20251102T090000
END:STANDARD
BEGIN:DAYLIGHT
TZOFFSETFROM:-0800
TZOFFSETTO:-0700
TZNAME:PDT
DTSTART:20260308T100000
END:DAYLIGHT
BEGIN:STANDARD
TZOFFSETFROM:-0700
TZOFFSETTO:-0800
TZNAME:PST
DTSTART:20261101T090000
END:STANDARD
BEGIN:DAYLIGHT
TZOFFSETFROM:-0800
TZOFFSETTO:-0700
TZNAME:PDT
DTSTART:20270314T100000
END:DAYLIGHT
BEGIN:STANDARD
TZOFFSETFROM:-0700
TZOFFSETTO:-0800
TZNAME:PST
DTSTART:20271107T090000
END:STANDARD
END:VTIMEZONE
BEGIN:VEVENT
DTSTART;TZID=America/Los_Angeles:20260425T090000
DTEND;TZID=America/Los_Angeles:20260425T120000
DTSTAMP:20260424T202940
CREATED:20260402T030305Z
LAST-MODIFIED:20260402T030305Z
UID:282640-1777107600-1777118400@pdxparent.com
SUMMARY:Pier Park Pick-Up
DESCRIPTION:We will be removing invasives like ivy and blackberry\, picking up litter\, dragging fallen limbs into piles\, and weeding the new beds of native plant to help give them a good start. All ages and families are welcome. Work begins at 9 am with a short orientation talk and finishes up about noon. Wear good work shoes and be prepared for the weather. If you have them\, bring your own work gloves and a container for water. We will have fresh water to fill your containers. Friends of Pier Park will also provide coffee and donuts for all volunteers.\n\n\nEditor’s note: This event is a community submission.
URL:https://pdxparent.com/event-single/pier-park-pick-up/
LOCATION:Pier Park-meeting at the intersection of N Bruce and N James St.\, Meet at the blacktop trail leading into the park from the farthest parking lot. Follow N Kelley Point Park Road to the end.
CATEGORIES:Kids Calendar,Outdoor,Plants & Nature
ATTACH;FMTTYPE=image/jpeg:https://pdxparent.com/wp-content/uploads/Pier-scaled.jpg
ORGANIZER;CN="SOLVE":MAILTO:peter@solveoregon.org
END:VEVENT
END:VCALENDAR