BEGIN:VCALENDAR
VERSION:2.0
PRODID:-//PDX Parent - ECPv6.15.17//NONSGML v1.0//EN
CALSCALE:GREGORIAN
METHOD:PUBLISH
X-WR-CALNAME:PDX Parent
X-ORIGINAL-URL:https://pdxparent.com
X-WR-CALDESC:Events for PDX Parent
REFRESH-INTERVAL;VALUE=DURATION:PT1H
X-Robots-Tag:noindex
X-PUBLISHED-TTL:PT1H
BEGIN:VTIMEZONE
TZID:America/Los_Angeles
BEGIN:DAYLIGHT
TZOFFSETFROM:-0800
TZOFFSETTO:-0700
TZNAME:PDT
DTSTART:20240310T100000
END:DAYLIGHT
BEGIN:STANDARD
TZOFFSETFROM:-0700
TZOFFSETTO:-0800
TZNAME:PST
DTSTART:20241103T090000
END:STANDARD
BEGIN:DAYLIGHT
TZOFFSETFROM:-0800
TZOFFSETTO:-0700
TZNAME:PDT
DTSTART:20250309T100000
END:DAYLIGHT
BEGIN:STANDARD
TZOFFSETFROM:-0700
TZOFFSETTO:-0800
TZNAME:PST
DTSTART:20251102T090000
END:STANDARD
BEGIN:DAYLIGHT
TZOFFSETFROM:-0800
TZOFFSETTO:-0700
TZNAME:PDT
DTSTART:20260308T100000
END:DAYLIGHT
BEGIN:STANDARD
TZOFFSETFROM:-0700
TZOFFSETTO:-0800
TZNAME:PST
DTSTART:20261101T090000
END:STANDARD
END:VTIMEZONE
BEGIN:VEVENT
DTSTART;TZID=America/Los_Angeles:20250906T110000
DTEND;TZID=America/Los_Angeles:20250906T170000
DTSTAMP:20260425T075958
CREATED:20250819T220037Z
LAST-MODIFIED:20250819T220136Z
UID:10012882-1757156400-1757178000@pdxparent.com
SUMMARY:POP Cats™ Portland
DESCRIPTION:Discover Portland Metro’s Purr-fect Cat Event 🐈\nHead to POP Cats™ Portland for a weekend that transforms the ordinary into the extraordinary. Whether you’re a lifelong cat enthusiast or a curious newcomer\, this event is a meow-tastic adventure for all ages.\n\n\nActivities include:\n\n\n\nDIY cat wand toys\nColor Station\nBead bracelet station\nTemporary tatoos at the Cattoo Parlor\nCat art exhibit\nGaming zone\nCatnannigans Cinema\n\nOther activities are also available\, but at a higher admission package bundle.\n\n \n\n\nCats for adoption from local rescue groups will be at the event.
URL:https://pdxparent.com/event-single/pop-cats-portland-2025/2025-09-06/
LOCATION:Wingspan Event & Conference Center\, 801 NE 34th Ave\, Hillsboro\, OR 97124⁠\, Hillsboro\, OR\, 97124⁠\, United States
CATEGORIES:Arts/Crafts,Educational,Family Fun,Indoor,Kids Calendar
ATTACH;FMTTYPE=image/png:https://pdxparent.com/wp-content/uploads/Popcats.png
END:VEVENT
END:VCALENDAR