BEGIN:VCALENDAR
VERSION:2.0
PRODID:-//PDX Parent - ECPv6.15.17//NONSGML v1.0//EN
CALSCALE:GREGORIAN
METHOD:PUBLISH
X-WR-CALNAME:PDX Parent
X-ORIGINAL-URL:https://pdxparent.com
X-WR-CALDESC:Events for PDX Parent
REFRESH-INTERVAL;VALUE=DURATION:PT1H
X-Robots-Tag:noindex
X-PUBLISHED-TTL:PT1H
BEGIN:VTIMEZONE
TZID:America/Los_Angeles
BEGIN:DAYLIGHT
TZOFFSETFROM:-0800
TZOFFSETTO:-0700
TZNAME:PDT
DTSTART:20240310T100000
END:DAYLIGHT
BEGIN:STANDARD
TZOFFSETFROM:-0700
TZOFFSETTO:-0800
TZNAME:PST
DTSTART:20241103T090000
END:STANDARD
BEGIN:DAYLIGHT
TZOFFSETFROM:-0800
TZOFFSETTO:-0700
TZNAME:PDT
DTSTART:20250309T100000
END:DAYLIGHT
BEGIN:STANDARD
TZOFFSETFROM:-0700
TZOFFSETTO:-0800
TZNAME:PST
DTSTART:20251102T090000
END:STANDARD
BEGIN:DAYLIGHT
TZOFFSETFROM:-0800
TZOFFSETTO:-0700
TZNAME:PDT
DTSTART:20260308T100000
END:DAYLIGHT
BEGIN:STANDARD
TZOFFSETFROM:-0700
TZOFFSETTO:-0800
TZNAME:PST
DTSTART:20261101T090000
END:STANDARD
END:VTIMEZONE
BEGIN:VEVENT
DTSTART;TZID=America/Los_Angeles:20250810T101500
DTEND;TZID=America/Los_Angeles:20250810T110000
DTSTAMP:20260424T111930
CREATED:20250728T214433Z
LAST-MODIFIED:20250728T214433Z
UID:233723-1754820900-1754823600@pdxparent.com
SUMMARY:Providence Bridge Pedal - Kid's Pedal
DESCRIPTION:Kids Pedal (part of the larger Providence Bridge Pedal event) is a free\, 3-mile ride for children 12 years old and younger. The route crosses the Hawthorne and Steel bridges and finishes with the other Providence Bridge Pedal events. Parents and others are welcome to ride in Kids Pedal as long as they are chaperoned by a younger cyclist. Kids Pedal is free\, but registration is required. Start time is 10:15 am.
URL:https://pdxparent.com/event-single/providence-bridge-pedal-kids-pedal/
LOCATION:Downtown Portland
CATEGORIES:Active,Family Fun,Kids Calendar,Outdoor
ATTACH;FMTTYPE=image/png:https://pdxparent.com/wp-content/uploads/Providence-Bridge-Pedal-1.png
END:VEVENT
END:VCALENDAR