BEGIN:VCALENDAR
VERSION:2.0
PRODID:-//PDX Parent - ECPv6.15.17//NONSGML v1.0//EN
CALSCALE:GREGORIAN
METHOD:PUBLISH
X-WR-CALNAME:PDX Parent
X-ORIGINAL-URL:https://pdxparent.com
X-WR-CALDESC:Events for PDX Parent
REFRESH-INTERVAL;VALUE=DURATION:PT1H
X-Robots-Tag:noindex
X-PUBLISHED-TTL:PT1H
BEGIN:VTIMEZONE
TZID:America/Los_Angeles
BEGIN:DAYLIGHT
TZOFFSETFROM:-0800
TZOFFSETTO:-0700
TZNAME:PDT
DTSTART:20250309T100000
END:DAYLIGHT
BEGIN:STANDARD
TZOFFSETFROM:-0700
TZOFFSETTO:-0800
TZNAME:PST
DTSTART:20251102T090000
END:STANDARD
BEGIN:DAYLIGHT
TZOFFSETFROM:-0800
TZOFFSETTO:-0700
TZNAME:PDT
DTSTART:20260308T100000
END:DAYLIGHT
BEGIN:STANDARD
TZOFFSETFROM:-0700
TZOFFSETTO:-0800
TZNAME:PST
DTSTART:20261101T090000
END:STANDARD
BEGIN:DAYLIGHT
TZOFFSETFROM:-0800
TZOFFSETTO:-0700
TZNAME:PDT
DTSTART:20270314T100000
END:DAYLIGHT
BEGIN:STANDARD
TZOFFSETFROM:-0700
TZOFFSETTO:-0800
TZNAME:PST
DTSTART:20271107T090000
END:STANDARD
END:VTIMEZONE
BEGIN:VEVENT
DTSTART;TZID=America/Los_Angeles:20260213T103000
DTEND;TZID=America/Los_Angeles:20260213T111500
DTSTAMP:20260420T121747
CREATED:20260120T193609Z
LAST-MODIFIED:20260120T193609Z
UID:10053132-1770978600-1770981300@pdxparent.com
SUMMARY:Red Yarn at SCH!
DESCRIPTION:Join us for a lively Red Yarn concert\, perfect for young children and their families! Oregon’s own Red Yarn (aka Andy Furgeson) blends folk-rock music and puppetry into a high-energy\, engaging show that brings American roots traditions to life. $15\, $13 for siblings\n\n\nEditor’s note: This event is a community submission.
URL:https://pdxparent.com/event-single/red-yarn-at-sch/2026-02-13/
LOCATION:Sellwood Community House\, 1436 SE Spokane St\, Portland\, Oregon\, 97202
CATEGORIES:Active,Family Fun,Indoor,Kids Calendar,Magic/Puppets,Music
ATTACH;FMTTYPE=image/png:https://pdxparent.com/wp-content/uploads/PDX-Parent-Cal-1.png
ORGANIZER;CN="Sellwood Community House":MAILTO:erin@sellwoodcommunityhouse.org
GEO:45.4647759;-122.6512239
X-APPLE-STRUCTURED-LOCATION;VALUE=URI;X-ADDRESS=Sellwood Community House 1436 SE Spokane St Portland Oregon 97202;X-APPLE-RADIUS=500;X-TITLE=1436 SE Spokane St:geo:-122.6512239,45.4647759
END:VEVENT
END:VCALENDAR