BEGIN:VCALENDAR
VERSION:2.0
PRODID:-//PDX Parent - ECPv6.15.17//NONSGML v1.0//EN
CALSCALE:GREGORIAN
METHOD:PUBLISH
X-WR-CALNAME:PDX Parent
X-ORIGINAL-URL:https://pdxparent.com
X-WR-CALDESC:Events for PDX Parent
REFRESH-INTERVAL;VALUE=DURATION:PT1H
X-Robots-Tag:noindex
X-PUBLISHED-TTL:PT1H
BEGIN:VTIMEZONE
TZID:America/Los_Angeles
BEGIN:DAYLIGHT
TZOFFSETFROM:-0800
TZOFFSETTO:-0700
TZNAME:PDT
DTSTART:20250309T100000
END:DAYLIGHT
BEGIN:STANDARD
TZOFFSETFROM:-0700
TZOFFSETTO:-0800
TZNAME:PST
DTSTART:20251102T090000
END:STANDARD
BEGIN:DAYLIGHT
TZOFFSETFROM:-0800
TZOFFSETTO:-0700
TZNAME:PDT
DTSTART:20260308T100000
END:DAYLIGHT
BEGIN:STANDARD
TZOFFSETFROM:-0700
TZOFFSETTO:-0800
TZNAME:PST
DTSTART:20261101T090000
END:STANDARD
BEGIN:DAYLIGHT
TZOFFSETFROM:-0800
TZOFFSETTO:-0700
TZNAME:PDT
DTSTART:20270314T100000
END:DAYLIGHT
BEGIN:STANDARD
TZOFFSETFROM:-0700
TZOFFSETTO:-0800
TZNAME:PST
DTSTART:20271107T090000
END:STANDARD
END:VTIMEZONE
BEGIN:VEVENT
DTSTART;TZID=America/Los_Angeles:20260502T120000
DTEND;TZID=America/Los_Angeles:20260502T160000
DTSTAMP:20260423T145818
CREATED:20260309T234902Z
LAST-MODIFIED:20260309T234902Z
UID:279112-1777723200-1777737600@pdxparent.com
SUMMARY:Rockwood Market Hall’s 4th Anniversary: Cultures in Celebration
DESCRIPTION:Rockwood Market Hall celebrates four years with an afternoon honoring the many cultures that make up the Rockwood community! Enjoy live performances\, food from Market Hall micro-restaurants\, a farmers market\, and family activities for all ages.\n\n\nPerformance Schedule:\n• 12:00–1:00 PM — Mariachi Viva México\n• 1:00–1:10 PM — Special Speaker\, Ana Muñoz\n• 1:10–2:00 PM — The Occidental Tourists\n• 2:00–2:30 PM — Ballet Folklorico\n• 2:30–3:00 PM — Chinese Lion Dance Team\n• 3:00–3:25 PM — Hip Hop Soulsation Academy
URL:https://pdxparent.com/event-single/rockwood-market-halls-4th-anniversary-cultures-in-celebration/
LOCATION:Rockwood Market Hall\, 458 SE 185th Ave.\, Portland\, OR\, 97233
CATEGORIES:Family Fun,Kids Calendar,Music
ATTACH;FMTTYPE=image/jpeg:https://pdxparent.com/wp-content/uploads/rockwood-market-hall-anniversary-party.jpg
END:VEVENT
END:VCALENDAR