BEGIN:VCALENDAR
VERSION:2.0
PRODID:-//PDX Parent - ECPv6.15.17//NONSGML v1.0//EN
CALSCALE:GREGORIAN
METHOD:PUBLISH
X-WR-CALNAME:PDX Parent
X-ORIGINAL-URL:https://pdxparent.com
X-WR-CALDESC:Events for PDX Parent
REFRESH-INTERVAL;VALUE=DURATION:PT1H
X-Robots-Tag:noindex
X-PUBLISHED-TTL:PT1H
BEGIN:VTIMEZONE
TZID:America/Los_Angeles
BEGIN:DAYLIGHT
TZOFFSETFROM:-0800
TZOFFSETTO:-0700
TZNAME:PDT
DTSTART:20250309T100000
END:DAYLIGHT
BEGIN:STANDARD
TZOFFSETFROM:-0700
TZOFFSETTO:-0800
TZNAME:PST
DTSTART:20251102T090000
END:STANDARD
BEGIN:DAYLIGHT
TZOFFSETFROM:-0800
TZOFFSETTO:-0700
TZNAME:PDT
DTSTART:20260308T100000
END:DAYLIGHT
BEGIN:STANDARD
TZOFFSETFROM:-0700
TZOFFSETTO:-0800
TZNAME:PST
DTSTART:20261101T090000
END:STANDARD
BEGIN:DAYLIGHT
TZOFFSETFROM:-0800
TZOFFSETTO:-0700
TZNAME:PDT
DTSTART:20270314T100000
END:DAYLIGHT
BEGIN:STANDARD
TZOFFSETFROM:-0700
TZOFFSETTO:-0800
TZNAME:PST
DTSTART:20271107T090000
END:STANDARD
END:VTIMEZONE
BEGIN:VEVENT
DTSTART;TZID=America/Los_Angeles:20260426T110000
DTEND;TZID=America/Los_Angeles:20260426T140000
DTSTAMP:20260425T175543
CREATED:20260414T203809Z
LAST-MODIFIED:20260414T203809Z
UID:10058242-1777201200-1777212000@pdxparent.com
SUMMARY:Shop & Donate with Kids (Fred Meyer Burlingame)
DESCRIPTION:Looking for an easy way to give back with your kids? Stop by Fred Meyer – Burlingame on April 25–26 and turn your regular shopping trip into something meaningful.\n\n\nFamilies can pick up period supplies while they shop and donate them on-site to support people in need across the Portland area. Kids can also create and drop off a simple card of support to include with donations — a small act of kindness that makes a big impact.\n\n\nLearn more:https://www.PositiveChargePDX.org/PeriodPower2026
URL:https://pdxparent.com/event-single/shop-donate-with-kids-fred-meyer-burlingame/2026-04-26/
LOCATION:Fred Meyer Burlingame\, 7555 SW Barbur Blvd\, Portland\, OR
CATEGORIES:Family Fun,Kids Calendar
ATTACH;FMTTYPE=image/png:https://pdxparent.com/wp-content/uploads/FINAL-SNAP-WIC-PROMO-1.png
END:VEVENT
END:VCALENDAR