BEGIN:VCALENDAR
VERSION:2.0
PRODID:-//PDX Parent - ECPv6.15.17//NONSGML v1.0//EN
CALSCALE:GREGORIAN
METHOD:PUBLISH
X-WR-CALNAME:PDX Parent
X-ORIGINAL-URL:https://pdxparent.com
X-WR-CALDESC:Events for PDX Parent
REFRESH-INTERVAL;VALUE=DURATION:PT1H
X-Robots-Tag:noindex
X-PUBLISHED-TTL:PT1H
BEGIN:VTIMEZONE
TZID:America/Los_Angeles
BEGIN:DAYLIGHT
TZOFFSETFROM:-0800
TZOFFSETTO:-0700
TZNAME:PDT
DTSTART:20250309T100000
END:DAYLIGHT
BEGIN:STANDARD
TZOFFSETFROM:-0700
TZOFFSETTO:-0800
TZNAME:PST
DTSTART:20251102T090000
END:STANDARD
BEGIN:DAYLIGHT
TZOFFSETFROM:-0800
TZOFFSETTO:-0700
TZNAME:PDT
DTSTART:20260308T100000
END:DAYLIGHT
BEGIN:STANDARD
TZOFFSETFROM:-0700
TZOFFSETTO:-0800
TZNAME:PST
DTSTART:20261101T090000
END:STANDARD
BEGIN:DAYLIGHT
TZOFFSETFROM:-0800
TZOFFSETTO:-0700
TZNAME:PDT
DTSTART:20270314T100000
END:DAYLIGHT
BEGIN:STANDARD
TZOFFSETFROM:-0700
TZOFFSETTO:-0800
TZNAME:PST
DTSTART:20271107T090000
END:STANDARD
END:VTIMEZONE
BEGIN:VEVENT
DTSTART;TZID=America/Los_Angeles:20260422T113000
DTEND;TZID=America/Los_Angeles:20260422T120000
DTSTAMP:20260422T045006
CREATED:20260330T002305Z
LAST-MODIFIED:20260330T002305Z
UID:282085-1776857400-1776859200@pdxparent.com
SUMMARY:Special Earth Day Forest Stories
DESCRIPTION:Celebrate Earth Day with a special Forest Stories at the World Forestry Center. Join us at 11:30 AM for a storytime dedicated to forests and forest-themed books that connect adults and children and engage the imagination. Coloring pages are also available.\n\n\nThis program is included with museum admission.\n\n\nEditor’s note: This event is a community submission.
URL:https://pdxparent.com/event-single/special-earth-day-forest-stories/
LOCATION:Discovery Museum\, 4033 SW Canyon Road World Forestry Center\, Portland\, OR\, 97221\, United States
CATEGORIES:Arts/Crafts,Earth Day,Educational,Kids Calendar,Museum,Storytime
ATTACH;FMTTYPE=image/jpeg:https://pdxparent.com/wp-content/uploads/Earth-Day-Special-Forest-Stories.jpg
ORGANIZER;CN="World Forestry Center":MAILTO:agannett@worldforestry.org
END:VEVENT
END:VCALENDAR