BEGIN:VCALENDAR
VERSION:2.0
PRODID:-//PDX Parent - ECPv6.15.17//NONSGML v1.0//EN
CALSCALE:GREGORIAN
METHOD:PUBLISH
X-WR-CALNAME:PDX Parent
X-ORIGINAL-URL:https://pdxparent.com
X-WR-CALDESC:Events for PDX Parent
REFRESH-INTERVAL;VALUE=DURATION:PT1H
X-Robots-Tag:noindex
X-PUBLISHED-TTL:PT1H
BEGIN:VTIMEZONE
TZID:America/Los_Angeles
BEGIN:DAYLIGHT
TZOFFSETFROM:-0800
TZOFFSETTO:-0700
TZNAME:PDT
DTSTART:20250309T100000
END:DAYLIGHT
BEGIN:STANDARD
TZOFFSETFROM:-0700
TZOFFSETTO:-0800
TZNAME:PST
DTSTART:20251102T090000
END:STANDARD
BEGIN:DAYLIGHT
TZOFFSETFROM:-0800
TZOFFSETTO:-0700
TZNAME:PDT
DTSTART:20260308T100000
END:DAYLIGHT
BEGIN:STANDARD
TZOFFSETFROM:-0700
TZOFFSETTO:-0800
TZNAME:PST
DTSTART:20261101T090000
END:STANDARD
BEGIN:DAYLIGHT
TZOFFSETFROM:-0800
TZOFFSETTO:-0700
TZNAME:PDT
DTSTART:20270314T100000
END:DAYLIGHT
BEGIN:STANDARD
TZOFFSETFROM:-0700
TZOFFSETTO:-0800
TZNAME:PST
DTSTART:20271107T090000
END:STANDARD
END:VTIMEZONE
BEGIN:VEVENT
DTSTART;TZID=America/Los_Angeles:20261114T090000
DTEND;TZID=America/Los_Angeles:20261114T140000
DTSTAMP:20260424T174149
CREATED:20260424T204408Z
LAST-MODIFIED:20260424T204408Z
UID:10059642-1794646800-1794664800@pdxparent.com
SUMMARY:St. Johns Farmers Market
DESCRIPTION:The roster for the 2026 season includes more than 80 small businesses\, including new and returning vendors spanning local farmers\, artisan food\, and handmade arts and crafts.\n\n\nKids\, look for our market friend Rosie! This pink squishmallow hides out in a different vendor booth every day. Tell us where you found her at the Info Booth and get a sticker!\n\n\nSJFM proudly offers Double Up Food Bucks and Produce Match and will be matching up to $20 in SNAP and EBT Cash per household per market day. SJFM also works with St. Johns-based organization Suma to offer an additional matching program\, up to $15 per day. To redeem\, SNAP customers can bring their Oregon Trail card to the Information Booth at the market. All are welcome at the St. Johns Farmers Market.\n\n \n\n\nEditor’s note: This event is a community submission.
URL:https://pdxparent.com/event-single/st-johns-farmers-market-2/2026-11-14/
LOCATION:St. Johns Farmers Market\, N Central St. and N Charleston Ave.\, Portland\, OR\, 97203\, United States
CATEGORIES:Family Fun,Kids Calendar
ATTACH;FMTTYPE=image/png:https://pdxparent.com/wp-content/uploads/StJohnsFarmersMarket_IG_D-scaled.png
ORGANIZER;CN="St. Johns Farmers Market":MAILTO:market@stjohnsopportunity.org
END:VEVENT
END:VCALENDAR