BEGIN:VCALENDAR
VERSION:2.0
PRODID:-//PDX Parent - ECPv6.15.17//NONSGML v1.0//EN
CALSCALE:GREGORIAN
METHOD:PUBLISH
X-WR-CALNAME:PDX Parent
X-ORIGINAL-URL:https://pdxparent.com
X-WR-CALDESC:Events for PDX Parent
REFRESH-INTERVAL;VALUE=DURATION:PT1H
X-Robots-Tag:noindex
X-PUBLISHED-TTL:PT1H
BEGIN:VTIMEZONE
TZID:America/Los_Angeles
BEGIN:DAYLIGHT
TZOFFSETFROM:-0800
TZOFFSETTO:-0700
TZNAME:PDT
DTSTART:20240310T100000
END:DAYLIGHT
BEGIN:STANDARD
TZOFFSETFROM:-0700
TZOFFSETTO:-0800
TZNAME:PST
DTSTART:20241103T090000
END:STANDARD
BEGIN:DAYLIGHT
TZOFFSETFROM:-0800
TZOFFSETTO:-0700
TZNAME:PDT
DTSTART:20250309T100000
END:DAYLIGHT
BEGIN:STANDARD
TZOFFSETFROM:-0700
TZOFFSETTO:-0800
TZNAME:PST
DTSTART:20251102T090000
END:STANDARD
BEGIN:DAYLIGHT
TZOFFSETFROM:-0800
TZOFFSETTO:-0700
TZNAME:PDT
DTSTART:20260308T100000
END:DAYLIGHT
BEGIN:STANDARD
TZOFFSETFROM:-0700
TZOFFSETTO:-0800
TZNAME:PST
DTSTART:20261101T090000
END:STANDARD
END:VTIMEZONE
BEGIN:VEVENT
DTSTART;TZID=America/Los_Angeles:20250719T090000
DTEND;TZID=America/Los_Angeles:20250719T140000
DTSTAMP:20260420T050649
CREATED:20250505T023528Z
LAST-MODIFIED:20250505T024159Z
UID:10007429-1752915600-1752933600@pdxparent.com
SUMMARY:St. Johns Farmers Market
DESCRIPTION:The roster for the 2025 St. Johns Farmers Market season includes more than 80 small businesses\, including new and returning vendors spanning local farmers\, artisan food\, and handmade arts and crafts.\n\n\nNew this year\, SJFM is excited to partner with OSU Extension Service to bring hands-on nutrition education to the kids activity booth. The program\, Food Hero\, will be available during all market hours from June through the end of September.\n\n\nSJFM proudly offers Double Up Food Bucks and Produce Match and will be matching up to $20 in SNAP/EBT Cash per household per market day. To redeem\, SNAP customers can bring their Oregon Trail card to the Information Booth at the market. All are welcome at the St. Johns Farmers Market.  \n\n \n\n\nEvent Date and Time: Saturdays\, 9-2 from May 3 through November 22. Plus\, a holiday market on December 13 from 10-2. \n\n\nLocation:\nFind us at the corner of N Charleston and N Central\, where we are generously hosted by St. Johns Church and St. Johns Bachelor Club. We look forward to seeing you all there!
URL:https://pdxparent.com/event-single/st-johns-farmers-market/2025-07-19/
LOCATION:St. Johns
CATEGORIES:Family Fun,Kids Calendar,Outdoor
ATTACH;FMTTYPE=image/png:https://pdxparent.com/wp-content/uploads/St.-Johns-Farmers-Market.png
END:VEVENT
END:VCALENDAR