BEGIN:VCALENDAR
VERSION:2.0
PRODID:-//PDX Parent - ECPv6.15.17//NONSGML v1.0//EN
CALSCALE:GREGORIAN
METHOD:PUBLISH
X-WR-CALNAME:PDX Parent
X-ORIGINAL-URL:https://pdxparent.com
X-WR-CALDESC:Events for PDX Parent
REFRESH-INTERVAL;VALUE=DURATION:PT1H
X-Robots-Tag:noindex
X-PUBLISHED-TTL:PT1H
BEGIN:VTIMEZONE
TZID:America/Los_Angeles
BEGIN:DAYLIGHT
TZOFFSETFROM:-0800
TZOFFSETTO:-0700
TZNAME:PDT
DTSTART:20250309T100000
END:DAYLIGHT
BEGIN:STANDARD
TZOFFSETFROM:-0700
TZOFFSETTO:-0800
TZNAME:PST
DTSTART:20251102T090000
END:STANDARD
BEGIN:DAYLIGHT
TZOFFSETFROM:-0800
TZOFFSETTO:-0700
TZNAME:PDT
DTSTART:20260308T100000
END:DAYLIGHT
BEGIN:STANDARD
TZOFFSETFROM:-0700
TZOFFSETTO:-0800
TZNAME:PST
DTSTART:20261101T090000
END:STANDARD
BEGIN:DAYLIGHT
TZOFFSETFROM:-0800
TZOFFSETTO:-0700
TZNAME:PDT
DTSTART:20270314T100000
END:DAYLIGHT
BEGIN:STANDARD
TZOFFSETFROM:-0700
TZOFFSETTO:-0800
TZNAME:PST
DTSTART:20271107T090000
END:STANDARD
END:VTIMEZONE
BEGIN:VEVENT
DTSTART;TZID=America/Los_Angeles:20260501T160000
DTEND;TZID=America/Los_Angeles:20260501T173000
DTSTAMP:20260424T044656
CREATED:20260422T174118Z
LAST-MODIFIED:20260422T174118Z
UID:286219-1777651200-1777656600@pdxparent.com
SUMMARY:Star Wars Day at The Wiggle Room
DESCRIPTION:Join us for Star Wars Day at The Wiggle Room on Friday\, May 1st from 4pm-5:30pm! This is a family-friendly event for kids of all ages. Get a chance to meet Darth Vader! There will also be a balloon artist available for balloon creations and open play! Tickets $30 per kids. Adults free.\n\n\nEditor’s note: This event is a community submission.
URL:https://pdxparent.com/event-single/star-wars-day-at-the-wiggle-room/
LOCATION:The Wiggle Room\, 1925 NE 42nd Ave C\, Portland\, OR\, 97213\, United States
CATEGORIES:Family Fun,Indoor,Kids Calendar
ATTACH;FMTTYPE=image/png:https://pdxparent.com/wp-content/uploads/Star-Wars-11.png
ORGANIZER;CN="The Wiggle Room":MAILTO:marketing@thewiggleroom.com
END:VEVENT
END:VCALENDAR