BEGIN:VCALENDAR
VERSION:2.0
PRODID:-//PDX Parent - ECPv6.15.17//NONSGML v1.0//EN
CALSCALE:GREGORIAN
METHOD:PUBLISH
X-WR-CALNAME:PDX Parent
X-ORIGINAL-URL:https://pdxparent.com
X-WR-CALDESC:Events for PDX Parent
REFRESH-INTERVAL;VALUE=DURATION:PT1H
X-Robots-Tag:noindex
X-PUBLISHED-TTL:PT1H
BEGIN:VTIMEZONE
TZID:America/Los_Angeles
BEGIN:DAYLIGHT
TZOFFSETFROM:-0800
TZOFFSETTO:-0700
TZNAME:PDT
DTSTART:20250309T100000
END:DAYLIGHT
BEGIN:STANDARD
TZOFFSETFROM:-0700
TZOFFSETTO:-0800
TZNAME:PST
DTSTART:20251102T090000
END:STANDARD
BEGIN:DAYLIGHT
TZOFFSETFROM:-0800
TZOFFSETTO:-0700
TZNAME:PDT
DTSTART:20260308T100000
END:DAYLIGHT
BEGIN:STANDARD
TZOFFSETFROM:-0700
TZOFFSETTO:-0800
TZNAME:PST
DTSTART:20261101T090000
END:STANDARD
BEGIN:DAYLIGHT
TZOFFSETFROM:-0800
TZOFFSETTO:-0700
TZNAME:PDT
DTSTART:20270314T100000
END:DAYLIGHT
BEGIN:STANDARD
TZOFFSETFROM:-0700
TZOFFSETTO:-0800
TZNAME:PST
DTSTART:20271107T090000
END:STANDARD
END:VTIMEZONE
BEGIN:VEVENT
DTSTART;TZID=America/Los_Angeles:20260425T103000
DTEND;TZID=America/Los_Angeles:20260425T114500
DTSTAMP:20260422T063618
CREATED:20260414T204927Z
LAST-MODIFIED:20260414T204927Z
UID:284748-1777113000-1777117500@pdxparent.com
SUMMARY:Storytime Adventure with Girl Scouts
DESCRIPTION:Come join us at Midland Library on April 25 at 10:30 a.m. for a Storytime Adventure with Girl Scouts!  Discover the fun\, friendship\, and adventure you’ll experience as a Girl Scout in our community. The story starts with you!\n\n\nEditor’s note: This event is a community submission.
URL:https://pdxparent.com/event-single/storytime-adventure-with-girl-scouts/
LOCATION:Midland Library\, 805 SE 122nd Ave\, Portland\, OR\, 97233
CATEGORIES:Books/Library,Kids Calendar,Storytime
ATTACH;FMTTYPE=image/jpeg:https://pdxparent.com/wp-content/uploads/Midland-Library-Girl-Scout-Story-Time-425.jpg
END:VEVENT
END:VCALENDAR