BEGIN:VCALENDAR
VERSION:2.0
PRODID:-//PDX Parent - ECPv6.15.17//NONSGML v1.0//EN
CALSCALE:GREGORIAN
METHOD:PUBLISH
X-WR-CALNAME:PDX Parent
X-ORIGINAL-URL:https://pdxparent.com
X-WR-CALDESC:Events for PDX Parent
REFRESH-INTERVAL;VALUE=DURATION:PT1H
X-Robots-Tag:noindex
X-PUBLISHED-TTL:PT1H
BEGIN:VTIMEZONE
TZID:America/Los_Angeles
BEGIN:DAYLIGHT
TZOFFSETFROM:-0800
TZOFFSETTO:-0700
TZNAME:PDT
DTSTART:20240310T100000
END:DAYLIGHT
BEGIN:STANDARD
TZOFFSETFROM:-0700
TZOFFSETTO:-0800
TZNAME:PST
DTSTART:20241103T090000
END:STANDARD
BEGIN:DAYLIGHT
TZOFFSETFROM:-0800
TZOFFSETTO:-0700
TZNAME:PDT
DTSTART:20250309T100000
END:DAYLIGHT
BEGIN:STANDARD
TZOFFSETFROM:-0700
TZOFFSETTO:-0800
TZNAME:PST
DTSTART:20251102T090000
END:STANDARD
BEGIN:DAYLIGHT
TZOFFSETFROM:-0800
TZOFFSETTO:-0700
TZNAME:PDT
DTSTART:20260308T100000
END:DAYLIGHT
BEGIN:STANDARD
TZOFFSETFROM:-0700
TZOFFSETTO:-0800
TZNAME:PST
DTSTART:20261101T090000
END:STANDARD
END:VTIMEZONE
BEGIN:VEVENT
DTSTART;VALUE=DATE:20250911
DTEND;VALUE=DATE:20250912
DTSTAMP:20260424T044048
CREATED:20250822T194401Z
LAST-MODIFIED:20250822T223557Z
UID:10012962-1757548800-1757635199@pdxparent.com
SUMMARY:Storytimes & Activities at Multnomah County Libraries
DESCRIPTION:Head to a Multnomah County Library near you\, or venture out to a new one for various storytimes and activities! There’s an option for pretty much every day of the week — visit their calendar to find what works for you.\n\n\nA sample of weekly library storytime and activity options:\n-Book Babies\n-Pajama Storytime\n-Tiny Tots\n-Toddler Storytime\n-Hora de Cuentos Bilingüe para Bebés – Bilingual Book Babies\n-Family Storytime\n-Toddler Playtime\n-Rainbow Family Storytime\n-Black Family Storytime\n-Vietnamese Family Playtime\n-Chinese Storytime\n-Native Family: Native Friends and Family Storytime\n-Family Costume Storytime
URL:https://pdxparent.com/event-single/storytimes-activities-at-multnomah-county-libraries/2025-09-11/
CATEGORIES:Books/Library,Educational,Inclusive,Indoor,Kids Calendar,Storytime
ATTACH;FMTTYPE=image/png:https://pdxparent.com/wp-content/uploads/Multnomah-County-Library-Storytimes.png
END:VEVENT
END:VCALENDAR