BEGIN:VCALENDAR
VERSION:2.0
PRODID:-//PDX Parent - ECPv6.15.17//NONSGML v1.0//EN
CALSCALE:GREGORIAN
METHOD:PUBLISH
X-WR-CALNAME:PDX Parent
X-ORIGINAL-URL:https://pdxparent.com
X-WR-CALDESC:Events for PDX Parent
REFRESH-INTERVAL;VALUE=DURATION:PT1H
X-Robots-Tag:noindex
X-PUBLISHED-TTL:PT1H
BEGIN:VTIMEZONE
TZID:America/Los_Angeles
BEGIN:DAYLIGHT
TZOFFSETFROM:-0800
TZOFFSETTO:-0700
TZNAME:PDT
DTSTART:20240310T100000
END:DAYLIGHT
BEGIN:STANDARD
TZOFFSETFROM:-0700
TZOFFSETTO:-0800
TZNAME:PST
DTSTART:20241103T090000
END:STANDARD
BEGIN:DAYLIGHT
TZOFFSETFROM:-0800
TZOFFSETTO:-0700
TZNAME:PDT
DTSTART:20250309T100000
END:DAYLIGHT
BEGIN:STANDARD
TZOFFSETFROM:-0700
TZOFFSETTO:-0800
TZNAME:PST
DTSTART:20251102T090000
END:STANDARD
BEGIN:DAYLIGHT
TZOFFSETFROM:-0800
TZOFFSETTO:-0700
TZNAME:PDT
DTSTART:20260308T100000
END:DAYLIGHT
BEGIN:STANDARD
TZOFFSETFROM:-0700
TZOFFSETTO:-0800
TZNAME:PST
DTSTART:20261101T090000
END:STANDARD
END:VTIMEZONE
BEGIN:VEVENT
DTSTART;TZID=America/Los_Angeles:20251130T140000
DTEND;TZID=America/Los_Angeles:20251130T160000
DTSTAMP:20260419T061904
CREATED:20250926T183222Z
LAST-MODIFIED:20250926T183222Z
UID:241794-1764511200-1764518400@pdxparent.com
SUMMARY:The Amazing Bubble Man at The Reser
DESCRIPTION:Enjoy an incredible performance by The Amazing Bubble Man at The Reser!\n\n\nLouis Pearl has been thrilling audiences around the world for over 30 years with the art\, magic\, science and fun of bubbles. He is a favorite at the Edinburgh Fringe Festival\, where he has enjoyed 14 years of sell-out success.\n\n\nLouis explores the breath-taking dynamics of bubbles\, combining comedy and artistry with audience participation and enough spellbinding bubble tricks to keep everyone mesmerized. From square bubbles\, bubbles inside bubbles\, fog-filled bubbles\, giant bubbles\, bubble volcanoes\, tornados and trampolines to people inside bubbles\, the Amazing Bubble Man conjures shrieks of laughter and gasps of amazement from all ages.\n\n \n\n\nMost shows will also feature multi-instrumentalist Jet Black Pearl accompanying Louis with bubbly music to double your pleasure.\n\n\nhttps://amazingbubbleman.com/\n\n\nPricing: $24.50 – $34.50
URL:https://pdxparent.com/event-single/the-amazing-bubble-man-at-the-reser/
LOCATION:The Reser
CATEGORIES:Educational,Family Fun,Indoor,Kids Calendar,Theater
ATTACH;FMTTYPE=image/png:https://pdxparent.com/wp-content/uploads/Amazing-Bubble-Man-at-The-Reser.png
END:VEVENT
END:VCALENDAR