BEGIN:VCALENDAR
VERSION:2.0
PRODID:-//PDX Parent - ECPv6.15.17//NONSGML v1.0//EN
CALSCALE:GREGORIAN
METHOD:PUBLISH
X-WR-CALNAME:PDX Parent
X-ORIGINAL-URL:https://pdxparent.com
X-WR-CALDESC:Events for PDX Parent
REFRESH-INTERVAL;VALUE=DURATION:PT1H
X-Robots-Tag:noindex
X-PUBLISHED-TTL:PT1H
BEGIN:VTIMEZONE
TZID:America/Los_Angeles
BEGIN:DAYLIGHT
TZOFFSETFROM:-0800
TZOFFSETTO:-0700
TZNAME:PDT
DTSTART:20250309T100000
END:DAYLIGHT
BEGIN:STANDARD
TZOFFSETFROM:-0700
TZOFFSETTO:-0800
TZNAME:PST
DTSTART:20251102T090000
END:STANDARD
BEGIN:DAYLIGHT
TZOFFSETFROM:-0800
TZOFFSETTO:-0700
TZNAME:PDT
DTSTART:20260308T100000
END:DAYLIGHT
BEGIN:STANDARD
TZOFFSETFROM:-0700
TZOFFSETTO:-0800
TZNAME:PST
DTSTART:20261101T090000
END:STANDARD
BEGIN:DAYLIGHT
TZOFFSETFROM:-0800
TZOFFSETTO:-0700
TZNAME:PDT
DTSTART:20270314T100000
END:DAYLIGHT
BEGIN:STANDARD
TZOFFSETFROM:-0700
TZOFFSETTO:-0800
TZNAME:PST
DTSTART:20271107T090000
END:STANDARD
END:VTIMEZONE
BEGIN:VEVENT
DTSTART;TZID=America/Los_Angeles:20260425T090000
DTEND;TZID=America/Los_Angeles:20260425T100000
DTSTAMP:20260424T190829
CREATED:20260424T205029Z
LAST-MODIFIED:20260424T205029Z
UID:286480-1777107600-1777111200@pdxparent.com
SUMMARY:Toddler & Me Ballet Playtime Drop-In
DESCRIPTION:IMA Academy invites families to drop-in for this fun ballet class where we discover ballet moves while jumping and crawling through an obstacle course\, pretending to be animals\, and playing musical pizza.\n\n\nThis parents/guardian drop-in ballet class is for young dancers ages 2-3.5\, to learn ballet all while being silly\, using imagination\, and moving together.\n\n\nNo previous dance is necessary. Families of all backgrounds and abilities are welcome.\n\n \n\n\nWear whatever fun and safe dance outfit inspires you\, or borrow some. The floors are marley (vinyl)\, so ballet slippers or socks work great.\n\n\nFor more info go to: ima-academy.square.site\n\n\nEditor’s note: This event is a community submission.
URL:https://pdxparent.com/event-single/toddler-me-ballet-playtime-drop-in/
LOCATION:a-wol dance collective\, 513 NE Schuyler St.\, Portland\, OR\, 97212\, United States
CATEGORIES:Dance,Family Fun,Indoor,Kids Calendar
ATTACH;FMTTYPE=image/jpeg:https://pdxparent.com/wp-content/uploads/Page_crop-2.jpg
ORGANIZER;CN="IMA Academy":MAILTO:ima.academy.pdx@gmail.com
END:VEVENT
END:VCALENDAR