BEGIN:VCALENDAR
VERSION:2.0
PRODID:-//PDX Parent - ECPv6.15.17//NONSGML v1.0//EN
CALSCALE:GREGORIAN
METHOD:PUBLISH
X-WR-CALNAME:PDX Parent
X-ORIGINAL-URL:https://pdxparent.com
X-WR-CALDESC:Events for PDX Parent
REFRESH-INTERVAL;VALUE=DURATION:PT1H
X-Robots-Tag:noindex
X-PUBLISHED-TTL:PT1H
BEGIN:VTIMEZONE
TZID:America/Los_Angeles
BEGIN:DAYLIGHT
TZOFFSETFROM:-0800
TZOFFSETTO:-0700
TZNAME:PDT
DTSTART:20240310T100000
END:DAYLIGHT
BEGIN:STANDARD
TZOFFSETFROM:-0700
TZOFFSETTO:-0800
TZNAME:PST
DTSTART:20241103T090000
END:STANDARD
BEGIN:DAYLIGHT
TZOFFSETFROM:-0800
TZOFFSETTO:-0700
TZNAME:PDT
DTSTART:20250309T100000
END:DAYLIGHT
BEGIN:STANDARD
TZOFFSETFROM:-0700
TZOFFSETTO:-0800
TZNAME:PST
DTSTART:20251102T090000
END:STANDARD
BEGIN:DAYLIGHT
TZOFFSETFROM:-0800
TZOFFSETTO:-0700
TZNAME:PDT
DTSTART:20260308T100000
END:DAYLIGHT
BEGIN:STANDARD
TZOFFSETFROM:-0700
TZOFFSETTO:-0800
TZNAME:PST
DTSTART:20261101T090000
END:STANDARD
END:VTIMEZONE
BEGIN:VEVENT
DTSTART;TZID=America/Los_Angeles:20251019T150000
DTEND;TZID=America/Los_Angeles:20251019T170000
DTSTAMP:20260420T110749
CREATED:20251006T213505Z
LAST-MODIFIED:20251006T213505Z
UID:243075-1760886000-1760893200@pdxparent.com
SUMMARY:Trick or Treat at Finley Sunset Hills
DESCRIPTION:Come spend an afternoon at the “Finley Castle” for our annual Trick or Treat event! We will have lots of family fun available with a number of themed game booths\, pumpkin painting\, face painting\, costume contests\, Irish Halloween storytelling\, and more!
URL:https://pdxparent.com/event-single/trick-or-treat-at-finley-sunset-hills/
LOCATION:Finley-Sunset Hills Mortuary & Sunset Hills Memorial Park\, 6801 Southwest Sunset Highway\, Portland\, Oregon
CATEGORIES:Active,Arts/Crafts,Family Fun,Halloween,Kids Calendar,Trick-or-Treat
ATTACH;FMTTYPE=image/png:https://pdxparent.com/wp-content/uploads/trick-or-treat-at-finley-sunset-hills.png
END:VEVENT
END:VCALENDAR