BEGIN:VCALENDAR
VERSION:2.0
PRODID:-//PDX Parent - ECPv6.15.17//NONSGML v1.0//EN
CALSCALE:GREGORIAN
METHOD:PUBLISH
X-WR-CALNAME:PDX Parent
X-ORIGINAL-URL:https://pdxparent.com
X-WR-CALDESC:Events for PDX Parent
REFRESH-INTERVAL;VALUE=DURATION:PT1H
X-Robots-Tag:noindex
X-PUBLISHED-TTL:PT1H
BEGIN:VTIMEZONE
TZID:America/Los_Angeles
BEGIN:DAYLIGHT
TZOFFSETFROM:-0800
TZOFFSETTO:-0700
TZNAME:PDT
DTSTART:20250309T100000
END:DAYLIGHT
BEGIN:STANDARD
TZOFFSETFROM:-0700
TZOFFSETTO:-0800
TZNAME:PST
DTSTART:20251102T090000
END:STANDARD
BEGIN:DAYLIGHT
TZOFFSETFROM:-0800
TZOFFSETTO:-0700
TZNAME:PDT
DTSTART:20260308T100000
END:DAYLIGHT
BEGIN:STANDARD
TZOFFSETFROM:-0700
TZOFFSETTO:-0800
TZNAME:PST
DTSTART:20261101T090000
END:STANDARD
BEGIN:DAYLIGHT
TZOFFSETFROM:-0800
TZOFFSETTO:-0700
TZNAME:PDT
DTSTART:20270314T100000
END:DAYLIGHT
BEGIN:STANDARD
TZOFFSETFROM:-0700
TZOFFSETTO:-0800
TZNAME:PST
DTSTART:20271107T090000
END:STANDARD
END:VTIMEZONE
BEGIN:VEVENT
DTSTART;TZID=America/Los_Angeles:20260530T130000
DTEND;TZID=America/Los_Angeles:20260530T170000
DTSTAMP:20260421T023020
CREATED:20260406T145153Z
LAST-MODIFIED:20260406T145153Z
UID:283067-1780146000-1780160400@pdxparent.com
SUMMARY:Tualatin Pride
DESCRIPTION:Join us May 30th at the Tualatin Commons for our annual Pride! The event runs 1 to 5pm and includes a march\, vendors\, resources and local presentations. For the main event\, we will feature Poison Water and Friends in their world famous drag show. All ages are welcome!\n\n\nEditor’s note: This event is a community submission.
URL:https://pdxparent.com/event-single/tualatin-pride/
LOCATION:Tualatin Commons
CATEGORIES:Kids Calendar,Music,Pride
ATTACH;FMTTYPE=image/png:https://pdxparent.com/wp-content/uploads/1000005407.png
ORGANIZER;CN="Tualatin Valley Pride":MAILTO:tualatinvalleypride@gmail.com
END:VEVENT
END:VCALENDAR