BEGIN:VCALENDAR
VERSION:2.0
PRODID:-//PDX Parent - ECPv6.15.17//NONSGML v1.0//EN
CALSCALE:GREGORIAN
METHOD:PUBLISH
X-WR-CALNAME:PDX Parent
X-ORIGINAL-URL:https://pdxparent.com
X-WR-CALDESC:Events for PDX Parent
REFRESH-INTERVAL;VALUE=DURATION:PT1H
X-Robots-Tag:noindex
X-PUBLISHED-TTL:PT1H
BEGIN:VTIMEZONE
TZID:America/Los_Angeles
BEGIN:DAYLIGHT
TZOFFSETFROM:-0800
TZOFFSETTO:-0700
TZNAME:PDT
DTSTART:20250309T100000
END:DAYLIGHT
BEGIN:STANDARD
TZOFFSETFROM:-0700
TZOFFSETTO:-0800
TZNAME:PST
DTSTART:20251102T090000
END:STANDARD
BEGIN:DAYLIGHT
TZOFFSETFROM:-0800
TZOFFSETTO:-0700
TZNAME:PDT
DTSTART:20260308T100000
END:DAYLIGHT
BEGIN:STANDARD
TZOFFSETFROM:-0700
TZOFFSETTO:-0800
TZNAME:PST
DTSTART:20261101T090000
END:STANDARD
BEGIN:DAYLIGHT
TZOFFSETFROM:-0800
TZOFFSETTO:-0700
TZNAME:PDT
DTSTART:20270314T100000
END:DAYLIGHT
BEGIN:STANDARD
TZOFFSETFROM:-0700
TZOFFSETTO:-0800
TZNAME:PST
DTSTART:20271107T090000
END:STANDARD
END:VTIMEZONE
BEGIN:VEVENT
DTSTART;TZID=America/Los_Angeles:20260613T120000
DTEND;TZID=America/Los_Angeles:20260613T190000
DTSTAMP:20260423T075209
CREATED:20260302T223111Z
LAST-MODIFIED:20260302T223111Z
UID:277799-1781352000-1781377200@pdxparent.com
SUMMARY:Vancouver's Pride Block Party
DESCRIPTION:Head to the 5th annual Pride Block Party on June 13th\, hosted by Dandelion Teahouse & Apothecary! Located on 7th street between Main and Washington (right in front of Dandelion Teahouse) from 12-7 for this fun day of celebration. This is a free event for the whole family\, all are welcome.
URL:https://pdxparent.com/event-single/vancouvers-pride-block-party/
LOCATION:Downtown Vancouver\, Multiple Locations\, Vancouver\, WA\, 98660\, United States
CATEGORIES:Family Fun,Kids Calendar,LGBTQ+,Pride
ATTACH;FMTTYPE=image/jpeg:https://pdxparent.com/wp-content/uploads/vancouvers-pride-block-party.jpg
END:VEVENT
END:VCALENDAR