BEGIN:VCALENDAR
VERSION:2.0
PRODID:-//PDX Parent - ECPv6.15.17//NONSGML v1.0//EN
CALSCALE:GREGORIAN
METHOD:PUBLISH
X-WR-CALNAME:PDX Parent
X-ORIGINAL-URL:https://pdxparent.com
X-WR-CALDESC:Events for PDX Parent
REFRESH-INTERVAL;VALUE=DURATION:PT1H
X-Robots-Tag:noindex
X-PUBLISHED-TTL:PT1H
BEGIN:VTIMEZONE
TZID:America/Los_Angeles
BEGIN:DAYLIGHT
TZOFFSETFROM:-0800
TZOFFSETTO:-0700
TZNAME:PDT
DTSTART:20250309T100000
END:DAYLIGHT
BEGIN:STANDARD
TZOFFSETFROM:-0700
TZOFFSETTO:-0800
TZNAME:PST
DTSTART:20251102T090000
END:STANDARD
BEGIN:DAYLIGHT
TZOFFSETFROM:-0800
TZOFFSETTO:-0700
TZNAME:PDT
DTSTART:20260308T100000
END:DAYLIGHT
BEGIN:STANDARD
TZOFFSETFROM:-0700
TZOFFSETTO:-0800
TZNAME:PST
DTSTART:20261101T090000
END:STANDARD
BEGIN:DAYLIGHT
TZOFFSETFROM:-0800
TZOFFSETTO:-0700
TZNAME:PDT
DTSTART:20270314T100000
END:DAYLIGHT
BEGIN:STANDARD
TZOFFSETFROM:-0700
TZOFFSETTO:-0800
TZNAME:PST
DTSTART:20271107T090000
END:STANDARD
END:VTIMEZONE
BEGIN:VEVENT
DTSTART;TZID=America/Los_Angeles:20260510T120000
DTEND;TZID=America/Los_Angeles:20260510T140000
DTSTAMP:20260422T122924
CREATED:20260415T002157Z
LAST-MODIFIED:20260417T190138Z
UID:10058361-1778414400-1778421600@pdxparent.com
SUMMARY:Whimsey Wees Mother's Day Workshop
DESCRIPTION:Celebrate Mother’s Day with a hands-on experience creating a beautiful\, handpicked vase of flowers with your child. Step into Whimsey Wees’ studio transformed into a Whimsy Bloom Flower Shop. Together\, you’ll choose four flowers from our hand-drawn flower bar and decorate them using watercolor markers\, oil pastels\, and crystal gems. Your child will also design and create their own custom flower. You’ll then pick\, paint\, and personalize a vase to hold your beautiful flower arrangement.\n\n\nTo make it even sweeter\, participants will decorate an edible flower cookie using watercolor techniques. Enjoy your cookie with light refreshments as you create together. You’ll finish with a styled photo moment so you can capture their creation and the memory behind it. This Mother’s Day workshop is more than a craft\, it’s a moment you’ll both remember.\n\n\nSaturday 5/9\, 3-5pm; Sunday 5/10 12-2pm and 3-5pm\n\n \n\n\nEach ticket is designed for one adult and one child working together on a shared bouquet.
URL:https://pdxparent.com/event-single/whimsey-wees-mothers-day-workshop/2026-05-10/
LOCATION:Whimsy Wees Art Studio
CATEGORIES:Mother's Day
ATTACH;FMTTYPE=image/jpeg:https://pdxparent.com/wp-content/uploads/mothers-day-workshop-at-whimsey-wees.jpg
END:VEVENT
END:VCALENDAR